BEGIN:VCALENDAR
VERSION:2.0
PRODID:-//Downtown Penticton - ECPv6.15.20//NONSGML v1.0//EN
CALSCALE:GREGORIAN
METHOD:PUBLISH
X-ORIGINAL-URL:https://downtownpenticton.org
X-WR-CALDESC:Events for Downtown Penticton
REFRESH-INTERVAL;VALUE=DURATION:PT1H
X-Robots-Tag:noindex
X-PUBLISHED-TTL:PT1H
BEGIN:VTIMEZONE
TZID:America/Vancouver
BEGIN:DAYLIGHT
TZOFFSETFROM:-0800
TZOFFSETTO:-0700
TZNAME:PDT
DTSTART:20250309T100000
END:DAYLIGHT
BEGIN:STANDARD
TZOFFSETFROM:-0700
TZOFFSETTO:-0800
TZNAME:PST
DTSTART:20251102T090000
END:STANDARD
BEGIN:DAYLIGHT
TZOFFSETFROM:-0800
TZOFFSETTO:-0700
TZNAME:PDT
DTSTART:20260308T100000
END:DAYLIGHT
BEGIN:STANDARD
TZOFFSETFROM:-0700
TZOFFSETTO:-0800
TZNAME:PST
DTSTART:20261101T090000
END:STANDARD
BEGIN:DAYLIGHT
TZOFFSETFROM:-0800
TZOFFSETTO:-0700
TZNAME:PDT
DTSTART:20270314T100000
END:DAYLIGHT
BEGIN:STANDARD
TZOFFSETFROM:-0700
TZOFFSETTO:-0800
TZNAME:PST
DTSTART:20271107T090000
END:STANDARD
END:VTIMEZONE
BEGIN:VEVENT
DTSTART;TZID=America/Vancouver:20260425T130000
DTEND;TZID=America/Vancouver:20260425T150000
DTSTAMP:20260425T133931
CREATED:20260402T212523Z
LAST-MODIFIED:20260402T212523Z
UID:23527-1777122000-1777129200@downtownpenticton.org
SUMMARY:Spring Bulb Kokedama Workshop
DESCRIPTION:Join Sahara Garden Art on April 25th for a Spring Bulb Kokedama Workshop and explore the art of creating unique moss ball arrangements. Perfect for spring decor\, this hands-on workshop allows you to design your own botanical piece using vibrant spring bulbs. No prior experience needed\, as all materials and guidance will be provided. Get creative and bring a touch of nature into your home!
URL:https://downtownpenticton.org/event/spring-bulb-kokedama-workshop-3/
LOCATION:Sahara Garden Art\, 407 Martin St\, Penticton\, V2A 5L1\, Canada
ORGANIZER;CN="Sahara Garden Art":MAILTO:SAHARAGARDENART@GMAIL.COM
END:VEVENT
BEGIN:VEVENT
DTSTART;TZID=America/Vancouver:20260430T180000
DTEND;TZID=America/Vancouver:20260430T193000
DTSTAMP:20260425T133931
CREATED:20260402T212700Z
LAST-MODIFIED:20260402T212700Z
UID:23529-1777572000-1777577400@downtownpenticton.org
SUMMARY:Herb Garden Workshop
DESCRIPTION:Discover practical herb gardening tips\, take part in interactive activities\, and create your own personalized herb garden. The workshop includes all necessary materials such as soil\, seeds\, and planters\, with guidance provided for design and care. Perfect for gardening enthusiasts of all skill levels!
URL:https://downtownpenticton.org/event/herb-garden-workshop-2/
LOCATION:Sahara Garden Art\, 407 Martin St\, Penticton\, V2A 5L1\, Canada
ORGANIZER;CN="Sahara Garden Art":MAILTO:SAHARAGARDENART@GMAIL.COM
END:VEVENT
BEGIN:VEVENT
DTSTART;TZID=America/Vancouver:20260508T180000
DTEND;TZID=America/Vancouver:20260508T193000
DTSTAMP:20260425T133931
CREATED:20260402T212901Z
LAST-MODIFIED:20260402T213608Z
UID:23531-1778263200-1778268600@downtownpenticton.org
SUMMARY:Build your own bouquet for or with MOM
DESCRIPTION:Design a personalized bouquet for May 8th to celebrate Mom with a thoughtful\, one-of-a-kind gift. Choose from a variety of fresh\, vibrant blooms to create an arrangement that perfectly suits her style. This customizable experience allows you to add a personal touch\, whether building it yourself or crafting it together with her. A unique way to make Mother’s Day memorable and meaningful.
URL:https://downtownpenticton.org/event/build-your-own-bouquet-for-or-with-mom/
LOCATION:Sahara Garden Art\, 407 Martin St\, Penticton\, V2A 5L1\, Canada
ORGANIZER;CN="Sahara Garden Art":MAILTO:SAHARAGARDENART@GMAIL.COM
END:VEVENT
END:VCALENDAR