BEGIN:VCALENDAR
VERSION:2.0
PRODID:-//Downtown Penticton - ECPv6.15.20//NONSGML v1.0//EN
CALSCALE:GREGORIAN
METHOD:PUBLISH
X-ORIGINAL-URL:https://downtownpenticton.org
X-WR-CALDESC:Events for Downtown Penticton
REFRESH-INTERVAL;VALUE=DURATION:PT1H
X-Robots-Tag:noindex
X-PUBLISHED-TTL:PT1H
BEGIN:VTIMEZONE
TZID:America/Vancouver
BEGIN:DAYLIGHT
TZOFFSETFROM:-0800
TZOFFSETTO:-0700
TZNAME:PDT
DTSTART:20210314T100000
END:DAYLIGHT
BEGIN:STANDARD
TZOFFSETFROM:-0700
TZOFFSETTO:-0800
TZNAME:PST
DTSTART:20211107T090000
END:STANDARD
BEGIN:DAYLIGHT
TZOFFSETFROM:-0800
TZOFFSETTO:-0700
TZNAME:PDT
DTSTART:20220313T100000
END:DAYLIGHT
BEGIN:STANDARD
TZOFFSETFROM:-0700
TZOFFSETTO:-0800
TZNAME:PST
DTSTART:20221106T090000
END:STANDARD
BEGIN:DAYLIGHT
TZOFFSETFROM:-0800
TZOFFSETTO:-0700
TZNAME:PDT
DTSTART:20230312T100000
END:DAYLIGHT
BEGIN:STANDARD
TZOFFSETFROM:-0700
TZOFFSETTO:-0800
TZNAME:PST
DTSTART:20231105T090000
END:STANDARD
END:VTIMEZONE
BEGIN:VEVENT
DTSTART;TZID=America/Vancouver:20221126T170000
DTEND;TZID=America/Vancouver:20221126T190000
DTSTAMP:20260419T121700
CREATED:20221102T184927Z
LAST-MODIFIED:20221102T202204Z
UID:18450-1669482000-1669489200@downtownpenticton.org
SUMMARY:Santa Rec Run
DESCRIPTION:Kick off the holiday season with friends & family from your school’s community. Run or walk the kid’s fun run (1km or 5km). \nWith some draw prizes\, race prizes\, workplace retreats up for grabs\, and so much more. Don’t be a Grinch\, join us and get active for outdoor programming! \nParticipants are encouraged to wear their best Christmas outfits and get into the festive spirit! \nIt’s all about the kids and being active outdoors! \nSign up at: youthoutdoorrecreationsociety.ca/events-1/2022-santa-rec-run
URL:https://downtownpenticton.org/event/santa-rec-run/
LOCATION:LocoLanding Adventure Park Parking Lot\, 75 Riverside Dr.\, Penticton\, BC\, V2A 9A7\, Canada
CATEGORIES:What’s Going On
ATTACH;FMTTYPE=image/jpeg:https://downtownpenticton.org/wp-content/uploads/2022/11/santarecrun.jpg
ORGANIZER;CN="Hoodoo Adventures":MAILTO:info@hoodooadventures.ca
END:VEVENT
END:VCALENDAR