BEGIN:VCALENDAR
VERSION:2.0
PRODID:-//Downtown Penticton - ECPv6.15.20//NONSGML v1.0//EN
CALSCALE:GREGORIAN
METHOD:PUBLISH
X-WR-CALNAME:Downtown Penticton
X-ORIGINAL-URL:https://downtownpenticton.org
X-WR-CALDESC:Events for Downtown Penticton
REFRESH-INTERVAL;VALUE=DURATION:PT1H
X-Robots-Tag:noindex
X-PUBLISHED-TTL:PT1H
BEGIN:VTIMEZONE
TZID:America/Vancouver
BEGIN:DAYLIGHT
TZOFFSETFROM:-0800
TZOFFSETTO:-0700
TZNAME:PDT
DTSTART:20210314T100000
END:DAYLIGHT
BEGIN:STANDARD
TZOFFSETFROM:-0700
TZOFFSETTO:-0800
TZNAME:PST
DTSTART:20211107T090000
END:STANDARD
BEGIN:DAYLIGHT
TZOFFSETFROM:-0800
TZOFFSETTO:-0700
TZNAME:PDT
DTSTART:20220313T100000
END:DAYLIGHT
BEGIN:STANDARD
TZOFFSETFROM:-0700
TZOFFSETTO:-0800
TZNAME:PST
DTSTART:20221106T090000
END:STANDARD
BEGIN:DAYLIGHT
TZOFFSETFROM:-0800
TZOFFSETTO:-0700
TZNAME:PDT
DTSTART:20230312T100000
END:DAYLIGHT
BEGIN:STANDARD
TZOFFSETFROM:-0700
TZOFFSETTO:-0800
TZNAME:PST
DTSTART:20231105T090000
END:STANDARD
END:VTIMEZONE
BEGIN:VEVENT
DTSTART;TZID=America/Vancouver:20220507T083000
DTEND;TZID=America/Vancouver:20220507T133000
DTSTAMP:20260420T020946
CREATED:20220403T175641Z
LAST-MODIFIED:20220420T200007Z
UID:17552-1651912200-1651930200@downtownpenticton.org
SUMMARY:Downtown Community Market
DESCRIPTION:Penticton’s Downtown Community Market runs for 21 weeks\, each Saturday morning\, starting in early May and ending at the end of September. The market is the biggest of its kind in the Okanagan\, spanning multiple blocks in the downtown core. \nEach season Penticton’s regular market-goers and visitors alike are delighted with the hundreds of vendors who feature handmade goods including clothing\, food and jewellery\, collectibles\, antiques and furniture\, as well as the weekly food vendors\, live music and entertainment that combine to create a fabulous downtown vibe.
URL:https://downtownpenticton.org/event/downtown-community-market/
LOCATION:Downtown Community Market\, 200 Main Street\, Penticton\, BC\, Canada
CATEGORIES:Community Market
END:VEVENT
END:VCALENDAR