BEGIN:VCALENDAR
VERSION:2.0
PRODID:-//Downtown Penticton - ECPv6.15.20//NONSGML v1.0//EN
CALSCALE:GREGORIAN
METHOD:PUBLISH
X-WR-CALNAME:Downtown Penticton
X-ORIGINAL-URL:https://downtownpenticton.org
X-WR-CALDESC:Events for Downtown Penticton
REFRESH-INTERVAL;VALUE=DURATION:PT1H
X-Robots-Tag:noindex
X-PUBLISHED-TTL:PT1H
BEGIN:VTIMEZONE
TZID:America/Vancouver
BEGIN:DAYLIGHT
TZOFFSETFROM:-0800
TZOFFSETTO:-0700
TZNAME:PDT
DTSTART:20210314T100000
END:DAYLIGHT
BEGIN:STANDARD
TZOFFSETFROM:-0700
TZOFFSETTO:-0800
TZNAME:PST
DTSTART:20211107T090000
END:STANDARD
BEGIN:DAYLIGHT
TZOFFSETFROM:-0800
TZOFFSETTO:-0700
TZNAME:PDT
DTSTART:20220313T100000
END:DAYLIGHT
BEGIN:STANDARD
TZOFFSETFROM:-0700
TZOFFSETTO:-0800
TZNAME:PST
DTSTART:20221106T090000
END:STANDARD
BEGIN:DAYLIGHT
TZOFFSETFROM:-0800
TZOFFSETTO:-0700
TZNAME:PDT
DTSTART:20230312T100000
END:DAYLIGHT
BEGIN:STANDARD
TZOFFSETFROM:-0700
TZOFFSETTO:-0800
TZNAME:PST
DTSTART:20231105T090000
END:STANDARD
END:VTIMEZONE
BEGIN:VEVENT
DTSTART;TZID=America/Vancouver:20220513T160000
DTEND;TZID=America/Vancouver:20220513T200000
DTSTAMP:20260419T135326
CREATED:20220427T164916Z
LAST-MODIFIED:20220427T165618Z
UID:18233-1652457600-1652472000@downtownpenticton.org
SUMMARY:Rock the Block
DESCRIPTION:Stop by the 200 BLOCK of Main Street Penticton on May 13th from 4 – 8 PM for games\, shopping\, a mini-market\, bouncy castle and more!\n\nSome amazing things to look forward to!\n\nMini Market!\nGrand Stories Market hosted by Elizabeth O. Vintage will be showcasing some of their vendors to give you a glimpse into their larger markets happening in Fall & Spring.\nShopping!\nHas it been a while since you visited the downtown merchants? The 200 Block will be open throughout the event for you to reacquaint yourself with all we have to offer.\nMidway Fun & Bouncy Castles!\nHave some fun with our free to play midway style games or take a turn on one of the bouncy castles provided by the downtown businesses.\nWill Enns Art Pop Up!\nBe sure to stop by La Creme Skincare & Boutique for the Will Enns Art Pop up. Take home a beautiful piece inspired by the Okanagan or even one of the Princess themed ones\, just like in Megan’s treatment room.\nAll this and more!
URL:https://downtownpenticton.org/event/rock-the-block/
LOCATION:200 Block Main Street\, 200 Main Street\, Penticton\, BC\, Canada
CATEGORIES:What’s Going On
END:VEVENT
BEGIN:VEVENT
DTSTART;TZID=America/Vancouver:20220508T100000
DTEND;TZID=America/Vancouver:20220508T140000
DTSTAMP:20260419T135326
CREATED:20220426T165345Z
LAST-MODIFIED:20220427T165042Z
UID:18199-1652004000-1652018400@downtownpenticton.org
SUMMARY:Mother's Day Celebration at Penticton Lakeside
DESCRIPTION:YOU’RE INVITED TO A\nMOTHER’S DAY CELEBRATION!\n\n\n\n\n\n\n\n\n\n\n\n\n\n\n\n\n\n\n\n\n\n\n\n\n\n\n\nSunday\, May\, 8\, 2022 | 10am – 2pm \n\nElegant Garden Party Brunch\nMarket Style Buffet\nGrand East Ballroom Overlooking Okanagan Lake\n\n\nTICKETS: \n$39.95 (13+) | $18.95 (4-12) | 3 & under FREE\n*Price does not include tax or gratuity \nContact The Front Desk at 250-493-8221 to Reserve Your Table Today!
URL:https://downtownpenticton.org/event/mothers-day-celebration-at-penticton-lakeside/
LOCATION:The Penticton Lakeside Resort\, 21 Lakeshore Drive W\, Penticton\, BC\, V2A 7M5\, Canada
CATEGORIES:What’s Going On
ATTACH;FMTTYPE=image/png:https://downtownpenticton.org/wp-content/uploads/2022/04/mothersdaylakesideweb.png
END:VEVENT
BEGIN:VEVENT
DTSTART;TZID=America/Vancouver:20220507T083000
DTEND;TZID=America/Vancouver:20220507T133000
DTSTAMP:20260419T135326
CREATED:20220403T175641Z
LAST-MODIFIED:20220420T200007Z
UID:17552-1651912200-1651930200@downtownpenticton.org
SUMMARY:Downtown Community Market
DESCRIPTION:Penticton’s Downtown Community Market runs for 21 weeks\, each Saturday morning\, starting in early May and ending at the end of September. The market is the biggest of its kind in the Okanagan\, spanning multiple blocks in the downtown core. \nEach season Penticton’s regular market-goers and visitors alike are delighted with the hundreds of vendors who feature handmade goods including clothing\, food and jewellery\, collectibles\, antiques and furniture\, as well as the weekly food vendors\, live music and entertainment that combine to create a fabulous downtown vibe.
URL:https://downtownpenticton.org/event/downtown-community-market/
LOCATION:Downtown Community Market\, 200 Main Street\, Penticton\, BC\, Canada
CATEGORIES:Community Market
END:VEVENT
END:VCALENDAR