BEGIN:VCALENDAR
VERSION:2.0
PRODID:-//Downtown Penticton - ECPv6.15.20//NONSGML v1.0//EN
CALSCALE:GREGORIAN
METHOD:PUBLISH
X-WR-CALNAME:Downtown Penticton
X-ORIGINAL-URL:https://downtownpenticton.org
X-WR-CALDESC:Events for Downtown Penticton
REFRESH-INTERVAL;VALUE=DURATION:PT1H
X-Robots-Tag:noindex
X-PUBLISHED-TTL:PT1H
BEGIN:VTIMEZONE
TZID:America/Vancouver
BEGIN:DAYLIGHT
TZOFFSETFROM:-0800
TZOFFSETTO:-0700
TZNAME:PDT
DTSTART:20240310T100000
END:DAYLIGHT
BEGIN:STANDARD
TZOFFSETFROM:-0700
TZOFFSETTO:-0800
TZNAME:PST
DTSTART:20241103T090000
END:STANDARD
BEGIN:DAYLIGHT
TZOFFSETFROM:-0800
TZOFFSETTO:-0700
TZNAME:PDT
DTSTART:20250309T100000
END:DAYLIGHT
BEGIN:STANDARD
TZOFFSETFROM:-0700
TZOFFSETTO:-0800
TZNAME:PST
DTSTART:20251102T090000
END:STANDARD
BEGIN:DAYLIGHT
TZOFFSETFROM:-0800
TZOFFSETTO:-0700
TZNAME:PDT
DTSTART:20260308T100000
END:DAYLIGHT
BEGIN:STANDARD
TZOFFSETFROM:-0700
TZOFFSETTO:-0800
TZNAME:PST
DTSTART:20261101T090000
END:STANDARD
END:VTIMEZONE
BEGIN:VEVENT
DTSTART;TZID=America/Vancouver:20250220T210000
DTEND;TZID=America/Vancouver:20250220T230000
DTSTAMP:20260423T163446
CREATED:20250220T174923Z
LAST-MODIFIED:20250220T174923Z
UID:22715-1740085200-1740092400@downtownpenticton.org
SUMMARY:K-OS with Special Guests at the Barking Parrot
DESCRIPTION:The Barking Parrot Bar is bringing the heat TONIGHT! Thursday\, February 20th at 9:30 PM! 🔥 Join them for an unreal night with Canadian alt Hip Hop legend: K-OS \nDoors open at 9:30\, and tickets are ONLY $10 at the door. Trust us\, you don’t want to miss this one!
URL:https://downtownpenticton.org/event/k-os-with-special-guests-at-the-barking-parrot/
LOCATION:The Barking Parrot Bar\, 21 Lakeshore Drive\, Penticton\, BC\, V2A 7M5\, Canada
CATEGORIES:What’s Going On
END:VEVENT
BEGIN:VEVENT
DTSTART;TZID=America/Vancouver:20251017T173000
DTEND;TZID=America/Vancouver:20251017T203000
DTSTAMP:20260423T163446
CREATED:20250828T181534Z
LAST-MODIFIED:20250828T181534Z
UID:23189-1760722200-1760733000@downtownpenticton.org
SUMMARY:Taste of Downtown
DESCRIPTION:Taste of Downtown\nExperience the 3rd Annual Taste of Downtown!\nDiscover the flavours that make downtown Penticton unique while showing your support for the local businesses that keep our downtown thriving. \nOn Friday\, October 17\, and Saturday\, October 18\, participating downtown restaurants will serve exclusive specials designed to take your taste buds on a one-of-a-kind culinary journey. Roaming local musicians will play in the evenings throughout the event at multiple locations. \nAs you explore the heart of Penticton\, savour delicious dishes\, listen to great music\, and soak in the lively atmosphere. \nShare Your Experience & Win!\nYour culinary adventure could win you an unforgettable prize! \nOne lucky participant will receive: \n\nA luxurious one-night stay at the Penticton Lakeside Resort\n$200 in restaurant gift cards to keep the foodie fun going\n\nHere’s how to enter: \n\nPost your Taste of Downtown experience on Facebook or Instagram\nTag #tasteofdowntownpen and @downtownpenticton\nOr email your story to info@downtownpenticton.org and let us know which restaurant stole your heart\n\nCelebrate Penticton’s Culinary Spirit \nJoin us in celebrating the vibrant food scene that makes downtown Penticton so special—where every bite is a journey and every restaurant is an experience worth savouring. \nTaste of Downtown Deals at Participating Restaurants:\nComing Soon! \nTaste of Downtown Music Schedule:\nComing Soon!
URL:https://downtownpenticton.org/event/taste-of-downtown-3/2025-10-17/
LOCATION:BC
CATEGORIES:DPBIA,What’s Going On
ATTACH;FMTTYPE=image/png:https://downtownpenticton.org/wp-content/uploads/2025/08/Taste-of-Downtown-Website-1280x720-px.png
END:VEVENT
BEGIN:VEVENT
DTSTART;TZID=America/Vancouver:20251018T173000
DTEND;TZID=America/Vancouver:20251018T203000
DTSTAMP:20260423T163446
CREATED:20250828T181534Z
LAST-MODIFIED:20250828T181534Z
UID:23190-1760808600-1760819400@downtownpenticton.org
SUMMARY:Taste of Downtown
DESCRIPTION:Taste of Downtown\nExperience the 3rd Annual Taste of Downtown!\nDiscover the flavours that make downtown Penticton unique while showing your support for the local businesses that keep our downtown thriving. \nOn Friday\, October 17\, and Saturday\, October 18\, participating downtown restaurants will serve exclusive specials designed to take your taste buds on a one-of-a-kind culinary journey. Roaming local musicians will play in the evenings throughout the event at multiple locations. \nAs you explore the heart of Penticton\, savour delicious dishes\, listen to great music\, and soak in the lively atmosphere. \nShare Your Experience & Win!\nYour culinary adventure could win you an unforgettable prize! \nOne lucky participant will receive: \n\nA luxurious one-night stay at the Penticton Lakeside Resort\n$200 in restaurant gift cards to keep the foodie fun going\n\nHere’s how to enter: \n\nPost your Taste of Downtown experience on Facebook or Instagram\nTag #tasteofdowntownpen and @downtownpenticton\nOr email your story to info@downtownpenticton.org and let us know which restaurant stole your heart\n\nCelebrate Penticton’s Culinary Spirit \nJoin us in celebrating the vibrant food scene that makes downtown Penticton so special—where every bite is a journey and every restaurant is an experience worth savouring. \nTaste of Downtown Deals at Participating Restaurants:\nComing Soon! \nTaste of Downtown Music Schedule:\nComing Soon!
URL:https://downtownpenticton.org/event/taste-of-downtown-3/2025-10-18/
LOCATION:BC
CATEGORIES:DPBIA,What’s Going On
ATTACH;FMTTYPE=image/png:https://downtownpenticton.org/wp-content/uploads/2025/08/Taste-of-Downtown-Website-1280x720-px.png
END:VEVENT
BEGIN:VEVENT
DTSTART;TZID=America/Vancouver:20251129T120000
DTEND;TZID=America/Vancouver:20251129T160000
DTSTAMP:20260423T163446
CREATED:20251106T220246Z
LAST-MODIFIED:20251106T220246Z
UID:23313-1764417600-1764432000@downtownpenticton.org
SUMMARY:A Sprinkle of Magic: Downtown Shopping Event
DESCRIPTION:Sprinkle of Magic – 2nd Annual Holiday Shopping Event!  \nMark your calendars for Saturday\, November 29\, from 12:00 PM to 4:00 PM and join downtown Penticton for an enchanting afternoon of holiday shopping and festive fun! \nActivity Hubs: \nThere will be four activity hubs\, spread out in downtown Penticton\, each offering unique experiences to explore\, shop\, and celebrate. Enjoy:\n✨ Live music to get you in the holiday spirit\n✨ Complimentary treats and warm hot cocoa\n✨ Exciting gift card giveaways and exclusive offers\n✨ Fun activities for all ages \nActivity Hub Locations:  \nTickleberry’s Greenspace – 202 Main Street \nCannery Brewing – 198 Ellis Street \nHighway 97 Brewing – 200 Ellis Street \nWhite Lioness Metaphysics – 419 Main Street \nGift Card Giveaways: \nWe’ll be giving away cards from downtown businesses with a combined total value of $ 5\,000! \nActivity Hub Passport: \nCollect stamps at all four hubs for a chance to win a $500 shopping spree downtown. \n  \nTo make your visit even easier\, the City of Penticton is offering free two-hour parking on streets. \nCome kick off your holiday season with us and experience the magic of downtown Penticton!
URL:https://downtownpenticton.org/event/a-sprinkle-of-magic-downtown-shopping-event/
LOCATION:BC
CATEGORIES:DPBIA,What’s Going On
ATTACH;FMTTYPE=image/png:https://downtownpenticton.org/wp-content/uploads/2025/11/Website-Events-1280x720-1.png
END:VEVENT
BEGIN:VEVENT
DTSTART;TZID=America/Vancouver:20251130T164500
DTEND;TZID=America/Vancouver:20251130T190000
DTSTAMP:20260423T163446
CREATED:20251125T000144Z
LAST-MODIFIED:20251125T195533Z
UID:23363-1764521100-1764529200@downtownpenticton.org
SUMMARY:Magic on Main Street - Santa Claus Parade and Light Up
DESCRIPTION:Ho\, ho\, ho! Magic on Main Street returns to Penticton on Sunday\, Nov. 30\, 2025.  \nThis magical event features dozens of floats cruising down Main Street\, ending at Gyro Park with the official light-up. This year’s light-up reveal will include a visit from Santa Claus plus the festive favourites including the 180-foot light tunnel\, the giant ‘light brite’ feature and more surprises. \nHighlights \n\nSanta Claus Parade: Starts at 4:45 p.m. with dozens of festive floats.\nLight-Up ceremony: Join us at Gyro Park at 6 p.m. for the big moment.\nTravel tips: Expect road closures and heavy foot traffic downtown; make your visit easier by using the free transit shuttle service.\n\nVisit City of Penticton for further information. \n\nLight-Up Ceremony at Gyro Park \nAfter the parade\, make your way to Gyro Park for an evening of festive fun! Enjoy live music\, delicious food trucks\, and a special performance by the Okanagan Dance Studios Showgroup. \nStage Schedule \n\n5:30–5:50 pm – Live music by Mandy Cole\n5:50–6:00 pm – Performance by OKDS Showgroup\n6:00–6:10 pm – Speeches from the MP\, MLA\, and Mayor\n6:10 pm – Light-Up\n6:15–7:00 pm – Live music by Mandy Cole
URL:https://downtownpenticton.org/event/magic-on-main-street-santa-claus-parade-and-light-up/
LOCATION:BC
CATEGORIES:What’s Going On
ATTACH;FMTTYPE=image/png:https://downtownpenticton.org/wp-content/uploads/2023/10/magic-on-main-street-1280x720-1.png
END:VEVENT
END:VCALENDAR