BEGIN:VCALENDAR
VERSION:2.0
PRODID:-//Downtown Penticton - ECPv6.15.20//NONSGML v1.0//EN
CALSCALE:GREGORIAN
METHOD:PUBLISH
X-WR-CALNAME:Downtown Penticton
X-ORIGINAL-URL:https://downtownpenticton.org
X-WR-CALDESC:Events for Downtown Penticton
REFRESH-INTERVAL;VALUE=DURATION:PT1H
X-Robots-Tag:noindex
X-PUBLISHED-TTL:PT1H
BEGIN:VTIMEZONE
TZID:America/Vancouver
BEGIN:DAYLIGHT
TZOFFSETFROM:-0800
TZOFFSETTO:-0700
TZNAME:PDT
DTSTART:20240310T100000
END:DAYLIGHT
BEGIN:STANDARD
TZOFFSETFROM:-0700
TZOFFSETTO:-0800
TZNAME:PST
DTSTART:20241103T090000
END:STANDARD
BEGIN:DAYLIGHT
TZOFFSETFROM:-0800
TZOFFSETTO:-0700
TZNAME:PDT
DTSTART:20250309T100000
END:DAYLIGHT
BEGIN:STANDARD
TZOFFSETFROM:-0700
TZOFFSETTO:-0800
TZNAME:PST
DTSTART:20251102T090000
END:STANDARD
BEGIN:DAYLIGHT
TZOFFSETFROM:-0800
TZOFFSETTO:-0700
TZNAME:PDT
DTSTART:20260308T100000
END:DAYLIGHT
BEGIN:STANDARD
TZOFFSETFROM:-0700
TZOFFSETTO:-0800
TZNAME:PST
DTSTART:20261101T090000
END:STANDARD
END:VTIMEZONE
BEGIN:VEVENT
DTSTART;TZID=America/Vancouver:20250205T183000
DTEND;TZID=America/Vancouver:20250205T210000
DTSTAMP:20260423T102418
CREATED:20250129T175658Z
LAST-MODIFIED:20250129T180057Z
UID:22693-1738780200-1738789200@downtownpenticton.org
SUMMARY:Loving Mugs Chili Cook Off
DESCRIPTION:The Penticton Art Gallery Proudly Presents the 8th Annual Loving Mugs Chili Cook-off\nDate: Wednesday\, February 5th\, 2025\nTime: Doors 6:30 ~ Chili Served at 7:00 \nPenticton\, BC – Spice up your winter and warm your heart at the Penticton Art Gallery’s much-anticipated 8th Annual Loving Mugs Chili Cook-off! This beloved spring fundraiser will take place on the evening of Wednesday\, February 5th\, 2025\, offering an unforgettable night of delicious food\, friendly competition\, and community spirit. \nThis year’s event is shaping up to be our hottest yet\, showcasing a stellar lineup of the region’s most inventive chefs and beloved restaurants\, all vying for chili supremacy. Guests will indulge in a wonderful array of unique and flavourful chili creations\, served in a specially curated collection of handcrafted pottery mugs. Attendees will also have the opportunity to vote for the coveted People’s Choice Awards\, as well as several other chili-inspired trophies up for grabs. \nWhat to Expect: \nCreative Chilis: From classic recipes to bold new twists\, participating chefs will present their most inspired dishes\, including vegetarian and vegan options. \nHandcrafted Mugs: Each guest will enjoy their chili in a unique\, handcrafted pottery mug\, a keepsake to take home and remember the evening by. \nFriendly Competition: Vote for your favourite chili and see which chef takes home the bragging rights and one of our coveted trophies! \nSupport a Great Cause: All proceeds from ticket sales go directly to the Penticton Art Gallery’s education and outreach programs\, including children and youth camps\, after-school initiatives\, and artist talks. \nTickets: \nMembers: $40\nNon-members: $45 \nGet your tickets online: https://www.pentictonartgallery.com/shop-online/p/loving-mugs-2025 \nBy phone: (250) 493-2928 \nVisit us in person at: 199 Marina Way!
URL:https://downtownpenticton.org/event/loving-mugs-chili-cook-off/
LOCATION:Penticton Art Gallery\, 199 Marina Way\, Penticton\, BC\, V2A 1H3\, Canada
CATEGORIES:What’s Going On
ATTACH;FMTTYPE=image/png:https://downtownpenticton.org/wp-content/uploads/2025/01/Loving-mugs.png
ORGANIZER;CN="Penticton Art Gallery":MAILTO:inquiries@pentictonartgallery.com
END:VEVENT
END:VCALENDAR