BEGIN:VCALENDAR
VERSION:2.0
PRODID:-//Downtown Penticton - ECPv6.15.20//NONSGML v1.0//EN
CALSCALE:GREGORIAN
METHOD:PUBLISH
X-ORIGINAL-URL:https://downtownpenticton.org
X-WR-CALDESC:Events for Downtown Penticton
REFRESH-INTERVAL;VALUE=DURATION:PT1H
X-Robots-Tag:noindex
X-PUBLISHED-TTL:PT1H
BEGIN:VTIMEZONE
TZID:America/Vancouver
BEGIN:DAYLIGHT
TZOFFSETFROM:-0800
TZOFFSETTO:-0700
TZNAME:PDT
DTSTART:20230312T100000
END:DAYLIGHT
BEGIN:STANDARD
TZOFFSETFROM:-0700
TZOFFSETTO:-0800
TZNAME:PST
DTSTART:20231105T090000
END:STANDARD
BEGIN:DAYLIGHT
TZOFFSETFROM:-0800
TZOFFSETTO:-0700
TZNAME:PDT
DTSTART:20240310T100000
END:DAYLIGHT
BEGIN:STANDARD
TZOFFSETFROM:-0700
TZOFFSETTO:-0800
TZNAME:PST
DTSTART:20241103T090000
END:STANDARD
BEGIN:DAYLIGHT
TZOFFSETFROM:-0800
TZOFFSETTO:-0700
TZNAME:PDT
DTSTART:20250309T100000
END:DAYLIGHT
BEGIN:STANDARD
TZOFFSETFROM:-0700
TZOFFSETTO:-0800
TZNAME:PST
DTSTART:20251102T090000
END:STANDARD
END:VTIMEZONE
BEGIN:VEVENT
DTSTART;TZID=America/Vancouver:20241201T160000
DTEND;TZID=America/Vancouver:20241201T190000
DTSTAMP:20260423T134643
CREATED:20240924T170518Z
LAST-MODIFIED:20240924T170518Z
UID:22372-1733068800-1733079600@downtownpenticton.org
SUMMARY:Magic on Main Street - Santa Claus Parade & Light Up
DESCRIPTION:Ho\, ho\, ho! This magical event features dozens of floats taking part in the Santa Claus Parade\, cruising down Main Street. Families are encouraged to join the procession down to Gyro Park\, which will followed by the official Light Up. \nVisit City of Penticton for further information.
URL:https://downtownpenticton.org/event/magic-on-main-street-santa-claus-parade-light-up/
LOCATION:Gyro Park\, 55 Main St\, Penticton\, BC\, V2A 5K1\, Canada
CATEGORIES:What’s Going On
ATTACH;FMTTYPE=image/png:https://downtownpenticton.org/wp-content/uploads/2024/09/Final-8.png
END:VEVENT
BEGIN:VEVENT
DTSTART;TZID=America/Vancouver:20241201T170000
DTEND;TZID=America/Vancouver:20241201T190000
DTSTAMP:20260423T134643
CREATED:20240827T163524Z
LAST-MODIFIED:20241203T171600Z
UID:22587-1733072400-1733079600@downtownpenticton.org
SUMMARY:Bran Sanders in Cannery Brewing Taproom
DESCRIPTION:Dec 1 – 5-7pm – Bran Sanders \nBran is a folk singer based in West Kelowna. His musical style is directly shaped by a rich heritage of old-time and traditional folk music\, drawing inspiration from artists like Doc Watson and Dave Van Ronk.
URL:https://downtownpenticton.org/event/cannery-brewing-taproom-2024-12-01/
LOCATION:Cannery Brewing\, 198 Ellis St\, Penticton\, BC\, V2A 4L5\, Canada
CATEGORIES:What’s Going On
ATTACH;FMTTYPE=image/jpeg:https://downtownpenticton.org/wp-content/uploads/2024/05/Bran-Sanders-scaled.jpg
END:VEVENT
END:VCALENDAR