BEGIN:VCALENDAR
VERSION:2.0
PRODID:-//Downtown Penticton - ECPv6.15.20//NONSGML v1.0//EN
CALSCALE:GREGORIAN
METHOD:PUBLISH
X-WR-CALNAME:Downtown Penticton
X-ORIGINAL-URL:https://downtownpenticton.org
X-WR-CALDESC:Events for Downtown Penticton
REFRESH-INTERVAL;VALUE=DURATION:PT1H
X-Robots-Tag:noindex
X-PUBLISHED-TTL:PT1H
BEGIN:VTIMEZONE
TZID:America/Vancouver
BEGIN:DAYLIGHT
TZOFFSETFROM:-0800
TZOFFSETTO:-0700
TZNAME:PDT
DTSTART:20230312T100000
END:DAYLIGHT
BEGIN:STANDARD
TZOFFSETFROM:-0700
TZOFFSETTO:-0800
TZNAME:PST
DTSTART:20231105T090000
END:STANDARD
BEGIN:DAYLIGHT
TZOFFSETFROM:-0800
TZOFFSETTO:-0700
TZNAME:PDT
DTSTART:20240310T100000
END:DAYLIGHT
BEGIN:STANDARD
TZOFFSETFROM:-0700
TZOFFSETTO:-0800
TZNAME:PST
DTSTART:20241103T090000
END:STANDARD
BEGIN:DAYLIGHT
TZOFFSETFROM:-0800
TZOFFSETTO:-0700
TZNAME:PDT
DTSTART:20250309T100000
END:DAYLIGHT
BEGIN:STANDARD
TZOFFSETFROM:-0700
TZOFFSETTO:-0800
TZNAME:PST
DTSTART:20251102T090000
END:STANDARD
END:VTIMEZONE
BEGIN:VEVENT
DTSTART;TZID=America/Vancouver:20241020T170000
DTEND;TZID=America/Vancouver:20241020T190000
DTSTAMP:20260423T165717
CREATED:20240827T163524Z
LAST-MODIFIED:20240926T202208Z
UID:22390-1729443600-1729450800@downtownpenticton.org
SUMMARY:Terry (T.K.) Kaiser & Phil D'Aoust in Cannery Brewing Taproom
DESCRIPTION:October 20\, 2024: Terry (T.K.) Kaiser & Phil D’Aoust\n5-7pm \nTK and Phil have musically collaborated in the past and are pleased to join forces again for a Sunday at Cannery Brewing. Expect a mix of TK originals\, traditional folk\, country and blues with Phil providing the rich bass sounds that he is known for.
URL:https://downtownpenticton.org/event/cannery-brewing-taproom-2024-09-29-2024-10-20/
LOCATION:Cannery Brewing\, 198 Ellis St\, Penticton\, BC\, V2A 4L5\, Canada
CATEGORIES:What’s Going On
ATTACH;FMTTYPE=image/png:https://downtownpenticton.org/wp-content/uploads/2024/08/TK-and-Phil.png
END:VEVENT
BEGIN:VEVENT
DTSTART;TZID=America/Vancouver:20241020T173000
DTEND;TZID=America/Vancouver:20241020T220000
DTSTAMP:20260423T165717
CREATED:20241008T162100Z
LAST-MODIFIED:20241009T210334Z
UID:22428-1729445400-1729461600@downtownpenticton.org
SUMMARY:Taste of Downtown
DESCRIPTION:Join us for the Taste of Downtown!\n\nWe invite you to savour the unique flavours that define Penticton while supporting the heart of our community – our local businesses. From Thursday\, October 17\, to Sunday\, October 20\, participating Downtown Penticton restaurants will be offering delectable specials that will take you on a culinary adventure. Roaming local musicians will be playing throughout the event at multiple locations.\nThe festivities will kick off in true Nashville style on Thursday\, October 17\, with a special event on Martin Street. Guests can enjoy live performances as they move between venues\, soaking in the lively atmosphere and great food.\n\nShare your experience on social media for your chance to win!\nOne lucky winner will have the opportunity to enjoy a luxurious one-night stay at the Penticton Lakeside Resort\, paired with $200 in restaurant gift cards\, offering an unforgettable dining experience\nTo participate and stand a chance to win\, simply tag your culinary adventures at participating Taste of Downtown locations with #tasteofdowntownpen and @downtownpenticton on Facebook or Instagram or email your experience to info@downtownpenticton.org.\n\nHelp us celebrate Penticton’s vibrant culinary scene\, where every bite is a journey\, and every restaurant is an experience.
URL:https://downtownpenticton.org/event/taste-of-downtown-2/2024-10-20/
CATEGORIES:DPBIA,What’s Going On
ATTACH;FMTTYPE=image/png:https://downtownpenticton.org/wp-content/uploads/2024/10/ToD24-Web-1280-x-720-px-1.png
END:VEVENT
END:VCALENDAR