BEGIN:VCALENDAR
VERSION:2.0
PRODID:-//Downtown Penticton - ECPv6.15.20//NONSGML v1.0//EN
CALSCALE:GREGORIAN
METHOD:PUBLISH
X-WR-CALNAME:Downtown Penticton
X-ORIGINAL-URL:https://downtownpenticton.org
X-WR-CALDESC:Events for Downtown Penticton
REFRESH-INTERVAL;VALUE=DURATION:PT1H
X-Robots-Tag:noindex
X-PUBLISHED-TTL:PT1H
BEGIN:VTIMEZONE
TZID:America/Vancouver
BEGIN:DAYLIGHT
TZOFFSETFROM:-0800
TZOFFSETTO:-0700
TZNAME:PDT
DTSTART:20230312T100000
END:DAYLIGHT
BEGIN:STANDARD
TZOFFSETFROM:-0700
TZOFFSETTO:-0800
TZNAME:PST
DTSTART:20231105T090000
END:STANDARD
BEGIN:DAYLIGHT
TZOFFSETFROM:-0800
TZOFFSETTO:-0700
TZNAME:PDT
DTSTART:20240310T100000
END:DAYLIGHT
BEGIN:STANDARD
TZOFFSETFROM:-0700
TZOFFSETTO:-0800
TZNAME:PST
DTSTART:20241103T090000
END:STANDARD
BEGIN:DAYLIGHT
TZOFFSETFROM:-0800
TZOFFSETTO:-0700
TZNAME:PDT
DTSTART:20250309T100000
END:DAYLIGHT
BEGIN:STANDARD
TZOFFSETFROM:-0700
TZOFFSETTO:-0800
TZNAME:PST
DTSTART:20251102T090000
END:STANDARD
END:VTIMEZONE
BEGIN:VEVENT
DTSTART;TZID=America/Vancouver:20241006T170000
DTEND;TZID=America/Vancouver:20241006T190000
DTSTAMP:20260423T165711
CREATED:20240926T163524Z
LAST-MODIFIED:20240926T201855Z
UID:22388-1728234000-1728241200@downtownpenticton.org
SUMMARY:Borderlines in Cannery Brewing Taproom
DESCRIPTION:October 6\, 2024: Borderlines \n5-7pm \nThe mesmerizing vocals and masterful musicianship of local folk duo Borderlines will transport you to a realm of musical bliss! Join Cannery Brewing from 5 to 7 pm for an evening filled with heartfelt violin and guitar.
URL:https://downtownpenticton.org/event/cannery-brewing-taproom-2024-09-29-2024-10-06/
LOCATION:Cannery Brewing\, 198 Ellis St\, Penticton\, BC\, V2A 4L5\, Canada
CATEGORIES:What’s Going On
END:VEVENT
BEGIN:VEVENT
DTSTART;TZID=America/Vancouver:20241006T180000
DTEND;TZID=America/Vancouver:20241006T213000
DTSTAMP:20260423T165711
CREATED:20240910T170550Z
LAST-MODIFIED:20240910T170550Z
UID:22353-1728237600-1728250200@downtownpenticton.org
SUMMARY:Joos Box Autumn Mocktail Class
DESCRIPTION:Want to learn how the magic is made? Now you can with our seasonal mocktail crafting classes! \nLimited spaces available\, so register early! (10 spots total). Tickets cost $40 each. \nWe’ll supply you with everything needed to make 3 signature drinks with seasonal flavours! \nGet tickets at joosbox.ca
URL:https://downtownpenticton.org/event/joos-box-autumn-mocktail-class/
LOCATION:Joos Box\, 283 Brunswick St\, Penticton\, BC\, V2A 5P9\, Canada
CATEGORIES:What’s Going On
ORGANIZER;CN="Joos Box":MAILTO:meetme@joosbox.ca
END:VEVENT
END:VCALENDAR