BEGIN:VCALENDAR
VERSION:2.0
PRODID:-//Downtown Penticton - ECPv6.15.20//NONSGML v1.0//EN
CALSCALE:GREGORIAN
METHOD:PUBLISH
X-WR-CALNAME:Downtown Penticton
X-ORIGINAL-URL:https://downtownpenticton.org
X-WR-CALDESC:Events for Downtown Penticton
REFRESH-INTERVAL;VALUE=DURATION:PT1H
X-Robots-Tag:noindex
X-PUBLISHED-TTL:PT1H
BEGIN:VTIMEZONE
TZID:America/Vancouver
BEGIN:DAYLIGHT
TZOFFSETFROM:-0800
TZOFFSETTO:-0700
TZNAME:PDT
DTSTART:20230312T100000
END:DAYLIGHT
BEGIN:STANDARD
TZOFFSETFROM:-0700
TZOFFSETTO:-0800
TZNAME:PST
DTSTART:20231105T090000
END:STANDARD
BEGIN:DAYLIGHT
TZOFFSETFROM:-0800
TZOFFSETTO:-0700
TZNAME:PDT
DTSTART:20240310T100000
END:DAYLIGHT
BEGIN:STANDARD
TZOFFSETFROM:-0700
TZOFFSETTO:-0800
TZNAME:PST
DTSTART:20241103T090000
END:STANDARD
BEGIN:DAYLIGHT
TZOFFSETFROM:-0800
TZOFFSETTO:-0700
TZNAME:PDT
DTSTART:20250309T100000
END:DAYLIGHT
BEGIN:STANDARD
TZOFFSETFROM:-0700
TZOFFSETTO:-0800
TZNAME:PST
DTSTART:20251102T090000
END:STANDARD
END:VTIMEZONE
BEGIN:VEVENT
DTSTART;TZID=America/Vancouver:20240807T180000
DTEND;TZID=America/Vancouver:20240807T200000
DTSTAMP:20260423T194511
CREATED:20240628T175950Z
LAST-MODIFIED:20240726T202544Z
UID:22267-1723053600-1723060800@downtownpenticton.org
SUMMARY:LONELYCOMPANY in Cannery Brewing Backyard
DESCRIPTION:August 7\, 2024: LONELYCOMPANY in Cannery Brewing Backyard\n6-8pm \nCrafted with love and passion\, a guitar tuned to 432Hz\, LONELYCOMPANY tailors its music to soothe the mind and encourage the healing process. Powerful lyrics take the listener through a visual experience\, while a mixture of stylings and rhythms guide the listener through a feeling journey within each song. 6-8pm No cover charge.
URL:https://downtownpenticton.org/event/in-the-backyard-2024-07-31-2024-08-07/
LOCATION:Cannery Brewing\, 198 Ellis St\, Penticton\, BC\, V2A 4L5\, Canada
CATEGORIES:What’s Going On
ATTACH;FMTTYPE=image/jpeg:https://downtownpenticton.org/wp-content/uploads/2024/06/LONELYCOMPANY.jpg
END:VEVENT
END:VCALENDAR