BEGIN:VCALENDAR
VERSION:2.0
PRODID:-//Downtown Penticton - ECPv6.15.20//NONSGML v1.0//EN
CALSCALE:GREGORIAN
METHOD:PUBLISH
X-WR-CALNAME:Downtown Penticton
X-ORIGINAL-URL:https://downtownpenticton.org
X-WR-CALDESC:Events for Downtown Penticton
REFRESH-INTERVAL;VALUE=DURATION:PT1H
X-Robots-Tag:noindex
X-PUBLISHED-TTL:PT1H
BEGIN:VTIMEZONE
TZID:America/Vancouver
BEGIN:DAYLIGHT
TZOFFSETFROM:-0800
TZOFFSETTO:-0700
TZNAME:PDT
DTSTART:20230312T100000
END:DAYLIGHT
BEGIN:STANDARD
TZOFFSETFROM:-0700
TZOFFSETTO:-0800
TZNAME:PST
DTSTART:20231105T090000
END:STANDARD
BEGIN:DAYLIGHT
TZOFFSETFROM:-0800
TZOFFSETTO:-0700
TZNAME:PDT
DTSTART:20240310T100000
END:DAYLIGHT
BEGIN:STANDARD
TZOFFSETFROM:-0700
TZOFFSETTO:-0800
TZNAME:PST
DTSTART:20241103T090000
END:STANDARD
BEGIN:DAYLIGHT
TZOFFSETFROM:-0800
TZOFFSETTO:-0700
TZNAME:PDT
DTSTART:20250309T100000
END:DAYLIGHT
BEGIN:STANDARD
TZOFFSETFROM:-0700
TZOFFSETTO:-0800
TZNAME:PST
DTSTART:20251102T090000
END:STANDARD
END:VTIMEZONE
BEGIN:VEVENT
DTSTART;TZID=America/Vancouver:20240721T180000
DTEND;TZID=America/Vancouver:20240721T200000
DTSTAMP:20260423T210402
CREATED:20240628T180815Z
LAST-MODIFIED:20240628T181259Z
UID:22217-1721584800-1721592000@downtownpenticton.org
SUMMARY:Bianca Berkland in the Taproom
DESCRIPTION:July 21\, 2024 – Bianca Berkland in the Taproom\n6-8pm \nBianca is an exceptionally gifted\, modern jazz/blues multi-instrumentalist\, songwriter and performer based out of Oliver\, BC. She has been performing pop\, rock\, and jazz covers in the Okanagan region for the past four years\, which has ignited in her an endless ambition to share her wealth of beautiful\, original material. Pairs perfectly with oysters and wine features!
URL:https://downtownpenticton.org/event/in-the-taproom-2024-07-21/
LOCATION:Cannery Brewing\, 198 Ellis St\, Penticton\, BC\, V2A 4L5\, Canada
CATEGORIES:What’s Going On
ATTACH;FMTTYPE=image/png:https://downtownpenticton.org/wp-content/uploads/2024/05/Events-Web-2.png
END:VEVENT
END:VCALENDAR