BEGIN:VCALENDAR
VERSION:2.0
PRODID:-//Downtown Penticton - ECPv6.15.20//NONSGML v1.0//EN
CALSCALE:GREGORIAN
METHOD:PUBLISH
X-WR-CALNAME:Downtown Penticton
X-ORIGINAL-URL:https://downtownpenticton.org
X-WR-CALDESC:Events for Downtown Penticton
REFRESH-INTERVAL;VALUE=DURATION:PT1H
X-Robots-Tag:noindex
X-PUBLISHED-TTL:PT1H
BEGIN:VTIMEZONE
TZID:America/Vancouver
BEGIN:DAYLIGHT
TZOFFSETFROM:-0800
TZOFFSETTO:-0700
TZNAME:PDT
DTSTART:20230312T100000
END:DAYLIGHT
BEGIN:STANDARD
TZOFFSETFROM:-0700
TZOFFSETTO:-0800
TZNAME:PST
DTSTART:20231105T090000
END:STANDARD
BEGIN:DAYLIGHT
TZOFFSETFROM:-0800
TZOFFSETTO:-0700
TZNAME:PDT
DTSTART:20240310T100000
END:DAYLIGHT
BEGIN:STANDARD
TZOFFSETFROM:-0700
TZOFFSETTO:-0800
TZNAME:PST
DTSTART:20241103T090000
END:STANDARD
BEGIN:DAYLIGHT
TZOFFSETFROM:-0800
TZOFFSETTO:-0700
TZNAME:PDT
DTSTART:20250309T100000
END:DAYLIGHT
BEGIN:STANDARD
TZOFFSETFROM:-0700
TZOFFSETTO:-0800
TZNAME:PST
DTSTART:20251102T090000
END:STANDARD
END:VTIMEZONE
BEGIN:VEVENT
DTSTART;TZID=America/Vancouver:20240717T180000
DTEND;TZID=America/Vancouver:20240717T200000
DTSTAMP:20260423T210140
CREATED:20240628T175950Z
LAST-MODIFIED:20240628T180420Z
UID:22198-1721239200-1721246400@downtownpenticton.org
SUMMARY:Lewis Cardinal in the Backyard
DESCRIPTION:July 17\, 2024 – Lewis Cardinal in the Backyard\n6-8pm \nLewis is a highly skilled guitarist and vocalist from Cardiff\, Wales\, with a passion for creating captivating musical experiences. His musical style draws inspiration from the likes of John Mayer and Chris Stapleton\, resulting in a soulful\, dynamic sound that is sure to delight audiences of all ages. \n 
URL:https://downtownpenticton.org/event/in-the-backyard-2024-07-17/
LOCATION:Cannery Brewing\, 198 Ellis St\, Penticton\, BC\, V2A 4L5\, Canada
CATEGORIES:What’s Going On
ATTACH;FMTTYPE=image/jpeg:https://downtownpenticton.org/wp-content/uploads/2024/06/Lewis-Cardinal-SM-scaled.jpg
END:VEVENT
END:VCALENDAR