BEGIN:VCALENDAR
VERSION:2.0
PRODID:-//Downtown Penticton - ECPv6.15.20//NONSGML v1.0//EN
CALSCALE:GREGORIAN
METHOD:PUBLISH
X-ORIGINAL-URL:https://downtownpenticton.org
X-WR-CALDESC:Events for Downtown Penticton
REFRESH-INTERVAL;VALUE=DURATION:PT1H
X-Robots-Tag:noindex
X-PUBLISHED-TTL:PT1H
BEGIN:VTIMEZONE
TZID:America/Vancouver
BEGIN:DAYLIGHT
TZOFFSETFROM:-0800
TZOFFSETTO:-0700
TZNAME:PDT
DTSTART:20230312T100000
END:DAYLIGHT
BEGIN:STANDARD
TZOFFSETFROM:-0700
TZOFFSETTO:-0800
TZNAME:PST
DTSTART:20231105T090000
END:STANDARD
BEGIN:DAYLIGHT
TZOFFSETFROM:-0800
TZOFFSETTO:-0700
TZNAME:PDT
DTSTART:20240310T100000
END:DAYLIGHT
BEGIN:STANDARD
TZOFFSETFROM:-0700
TZOFFSETTO:-0800
TZNAME:PST
DTSTART:20241103T090000
END:STANDARD
BEGIN:DAYLIGHT
TZOFFSETFROM:-0800
TZOFFSETTO:-0700
TZNAME:PDT
DTSTART:20250309T100000
END:DAYLIGHT
BEGIN:STANDARD
TZOFFSETFROM:-0700
TZOFFSETTO:-0800
TZNAME:PST
DTSTART:20251102T090000
END:STANDARD
END:VTIMEZONE
BEGIN:VEVENT
DTSTART;TZID=America/Vancouver:20240701T100000
DTEND;TZID=America/Vancouver:20240701T170000
DTSTAMP:20260423T210716
CREATED:20240612T212217Z
LAST-MODIFIED:20240627T185315Z
UID:22167-1719828000-1719853200@downtownpenticton.org
SUMMARY:Canada Day in Gyro Park
DESCRIPTION:Join us for Canada Day in the Park! \n\n\n\nIt’s all happening on Monday\, July 1\, 2024\, from 10 AM to 5 PM in Gyro Park Penticton.\n\n\n\nWe’ll have:\n Live Entertainment\n Face Painting\n Arts and Crafts\n Inflatable Activities\n Market Vendors\n Yoga in Gyro Park with Be Hive Yoga Penticton\n Beverage Garden from Kin & Folk Restaurant and Cocktails & Canapes Catering Okanagan\n and more!\n\n\n 
URL:https://downtownpenticton.org/event/canada-day-in-gyro-park/
LOCATION:Gyro Park\, 55 Main St\, Penticton\, BC\, V2A 5K1\, Canada
CATEGORIES:DPBIA,What’s Going On
ATTACH;FMTTYPE=image/png:https://downtownpenticton.org/wp-content/uploads/2024/06/Canada-Day-Web-Event.png
END:VEVENT
END:VCALENDAR