BEGIN:VCALENDAR
VERSION:2.0
PRODID:-//Downtown Penticton - ECPv6.15.20//NONSGML v1.0//EN
CALSCALE:GREGORIAN
METHOD:PUBLISH
X-WR-CALNAME:Downtown Penticton
X-ORIGINAL-URL:https://downtownpenticton.org
X-WR-CALDESC:Events for Downtown Penticton
REFRESH-INTERVAL;VALUE=DURATION:PT1H
X-Robots-Tag:noindex
X-PUBLISHED-TTL:PT1H
BEGIN:VTIMEZONE
TZID:America/Vancouver
BEGIN:DAYLIGHT
TZOFFSETFROM:-0800
TZOFFSETTO:-0700
TZNAME:PDT
DTSTART:20230312T100000
END:DAYLIGHT
BEGIN:STANDARD
TZOFFSETFROM:-0700
TZOFFSETTO:-0800
TZNAME:PST
DTSTART:20231105T090000
END:STANDARD
BEGIN:DAYLIGHT
TZOFFSETFROM:-0800
TZOFFSETTO:-0700
TZNAME:PDT
DTSTART:20240310T100000
END:DAYLIGHT
BEGIN:STANDARD
TZOFFSETFROM:-0700
TZOFFSETTO:-0800
TZNAME:PST
DTSTART:20241103T090000
END:STANDARD
BEGIN:DAYLIGHT
TZOFFSETFROM:-0800
TZOFFSETTO:-0700
TZNAME:PDT
DTSTART:20250309T100000
END:DAYLIGHT
BEGIN:STANDARD
TZOFFSETFROM:-0700
TZOFFSETTO:-0800
TZNAME:PST
DTSTART:20251102T090000
END:STANDARD
END:VTIMEZONE
BEGIN:VEVENT
DTSTART;TZID=America/Vancouver:20240623T110000
DTEND;TZID=America/Vancouver:20240623T150000
DTSTAMP:20260423T222940
CREATED:20240620T204949Z
LAST-MODIFIED:20240620T210423Z
UID:22180-1719140400-1719154800@downtownpenticton.org
SUMMARY:Cardboard Forest & Tree Festival
DESCRIPTION:June23\, 11:00-3:00 at Leir House Cultural Centre grounds\, 220 Manor Park Ave\, Penticton \nA FREE family-friendly TREE event featuring arty\, creative\, fun activities highlighting the importance of TREES IN OUR COMMUNITY\nTree info\, music\, art and food trucks \nMade possible by a Neighborhood Small Grant through the Community Foundation of the South Okanagan Similkameen
URL:https://downtownpenticton.org/event/cardboard-forest-tree-festival/
LOCATION:Leir House\, 220 Manor Park Ave\, Penticton\, BC\, V2A 2R1\, Canada
CATEGORIES:What’s Going On
END:VEVENT
BEGIN:VEVENT
DTSTART;TZID=America/Vancouver:20240623T180000
DTEND;TZID=America/Vancouver:20240623T200000
DTSTAMP:20260423T222940
CREATED:20240531T201504Z
LAST-MODIFIED:20240531T202455Z
UID:22118-1719165600-1719172800@downtownpenticton.org
SUMMARY:Cannery Brewing Music Series: Dorian Goodwin
DESCRIPTION:Join Cannery Brewing for their Sunday Night Wine & Music Series. \n\nJune 23rd\n6-8pm\nDorian Goodwin\nDorian’s unique blend of improvised groove takes you on a ride where each performance is a fresh and vibrant expression. With an unmatched passion for music Dorian creates immersive soundscapes that ignite your senses and move your soul.
URL:https://downtownpenticton.org/event/cannery-brewing-music-series-2024-06-23/
LOCATION:Cannery Brewing\, 198 Ellis St\, Penticton\, BC\, V2A 4L5\, Canada
CATEGORIES:What’s Going On
ATTACH;FMTTYPE=image/png:https://downtownpenticton.org/wp-content/uploads/2024/05/Events-Web-2.png
END:VEVENT
END:VCALENDAR