BEGIN:VCALENDAR
VERSION:2.0
PRODID:-//Downtown Penticton - ECPv6.15.20//NONSGML v1.0//EN
CALSCALE:GREGORIAN
METHOD:PUBLISH
X-WR-CALNAME:Downtown Penticton
X-ORIGINAL-URL:https://downtownpenticton.org
X-WR-CALDESC:Events for Downtown Penticton
REFRESH-INTERVAL;VALUE=DURATION:PT1H
X-Robots-Tag:noindex
X-PUBLISHED-TTL:PT1H
BEGIN:VTIMEZONE
TZID:America/Vancouver
BEGIN:DAYLIGHT
TZOFFSETFROM:-0800
TZOFFSETTO:-0700
TZNAME:PDT
DTSTART:20230312T100000
END:DAYLIGHT
BEGIN:STANDARD
TZOFFSETFROM:-0700
TZOFFSETTO:-0800
TZNAME:PST
DTSTART:20231105T090000
END:STANDARD
BEGIN:DAYLIGHT
TZOFFSETFROM:-0800
TZOFFSETTO:-0700
TZNAME:PDT
DTSTART:20240310T100000
END:DAYLIGHT
BEGIN:STANDARD
TZOFFSETFROM:-0700
TZOFFSETTO:-0800
TZNAME:PST
DTSTART:20241103T090000
END:STANDARD
BEGIN:DAYLIGHT
TZOFFSETFROM:-0800
TZOFFSETTO:-0700
TZNAME:PDT
DTSTART:20250309T100000
END:DAYLIGHT
BEGIN:STANDARD
TZOFFSETFROM:-0700
TZOFFSETTO:-0800
TZNAME:PST
DTSTART:20251102T090000
END:STANDARD
END:VTIMEZONE
BEGIN:VEVENT
DTSTART;TZID=America/Vancouver:20240615T083000
DTEND;TZID=America/Vancouver:20240615T133000
DTSTAMP:20260423T223012
CREATED:20240425T212526Z
LAST-MODIFIED:20240425T212526Z
UID:21990-1718440200-1718458200@downtownpenticton.org
SUMMARY:Downtown Community Market
DESCRIPTION:The Downtown Community Market is back for the 2024 season. Join us every Saturday from May 18 – September 7\, 2024\, in downtown Penticton. \nThe market is designed to bring together local vendors and community members for a day of shopping\, entertainment\, and connection. It features a wide variety of vendors selling everything from handmade crafts\, clothing\, jewellery to unique specialty items. Support small businesses and entrepreneurs while enjoying a vibrant outdoor market atmosphere! \nThe market runs from 8:30 am – 1:30 pm at 200 Main Street\, Front Street and Backstreet Boulevard.
URL:https://downtownpenticton.org/event/downtown-community-market-5/2024-06-15/
LOCATION:Downtown Community Market\, 200 Main Street\, Penticton\, BC\, Canada
CATEGORIES:DPBIA,What’s Going On
ATTACH;FMTTYPE=image/png:https://downtownpenticton.org/wp-content/uploads/2024/04/Market-Web.png
END:VEVENT
BEGIN:VEVENT
DTSTART;TZID=America/Vancouver:20240615T190000
DTEND;TZID=America/Vancouver:20240615T213000
DTSTAMP:20260423T223012
CREATED:20240531T203308Z
LAST-MODIFIED:20240531T203308Z
UID:22138-1718478000-1718487000@downtownpenticton.org
SUMMARY:Tempest Theatre Tapas
DESCRIPTION:It’s back!\n(The tasty Tempest format of scene presentation)\nOne night only\, 13 exciting actors\, 6 delicious scenes and YOU\, the audience get to write your favourite(s) on the program (hand it in to the lounge) to let us know which play you would like us to consider for a future production! Get your tickets quickly – they won’t last.\nWe’ll be presenting scenes from:\n* Boom by Peter Sinn Nachtrieb\n* Everyone’s Fine with Virginia Woolf by Kate Scelsa\n* Rosencrantz and Guildenstern are Dead by Tom Stoppard\n* The Book of Will by Lauren Gunderson\n* The Lifespan of a Fact by Jeremy Karaken\n* The Taming by Lauren Gunderson\nWith:\n* Kendra Anderson\n* Sam Braun\n* Kaitlyn Bernard\n* Piercey Dalton\n* Marty Hallat\n* Quinten James\n* Andy Kalirai\n* Landon Liboiron\n* Colter McLean\n* Moon Makepeace\n* Sean Poague\n* Kyler Sahlmark\n* Brendan Taylor\nDirected by Kate Twa and Denise Kenney. \nDoors open at 7:00pm\, presentation at 7:30pm. \nTickets are $35 and purchasable here: https://www.tempest.ca/on-stage.html
URL:https://downtownpenticton.org/event/tempest-theatre-tapas/
LOCATION:Tempest Theatre & Film Society\, 125 Eckhardt Ave E\, Penticton\, BC\, V2A 1Z5\, Canada
CATEGORIES:What’s Going On
ATTACH;FMTTYPE=image/jpeg:https://downtownpenticton.org/wp-content/uploads/2024/05/TheatreTapas2024-promos-WebCard.jpg
ORGANIZER;CN="Tempest Theatre & Film Society":MAILTO:admin@tempest.ca
END:VEVENT
END:VCALENDAR