BEGIN:VCALENDAR
VERSION:2.0
PRODID:-//Downtown Penticton - ECPv6.15.20//NONSGML v1.0//EN
CALSCALE:GREGORIAN
METHOD:PUBLISH
X-WR-CALNAME:Downtown Penticton
X-ORIGINAL-URL:https://downtownpenticton.org
X-WR-CALDESC:Events for Downtown Penticton
REFRESH-INTERVAL;VALUE=DURATION:PT1H
X-Robots-Tag:noindex
X-PUBLISHED-TTL:PT1H
BEGIN:VTIMEZONE
TZID:America/Vancouver
BEGIN:DAYLIGHT
TZOFFSETFROM:-0800
TZOFFSETTO:-0700
TZNAME:PDT
DTSTART:20230312T100000
END:DAYLIGHT
BEGIN:STANDARD
TZOFFSETFROM:-0700
TZOFFSETTO:-0800
TZNAME:PST
DTSTART:20231105T090000
END:STANDARD
BEGIN:DAYLIGHT
TZOFFSETFROM:-0800
TZOFFSETTO:-0700
TZNAME:PDT
DTSTART:20240310T100000
END:DAYLIGHT
BEGIN:STANDARD
TZOFFSETFROM:-0700
TZOFFSETTO:-0800
TZNAME:PST
DTSTART:20241103T090000
END:STANDARD
BEGIN:DAYLIGHT
TZOFFSETFROM:-0800
TZOFFSETTO:-0700
TZNAME:PDT
DTSTART:20250309T100000
END:DAYLIGHT
BEGIN:STANDARD
TZOFFSETFROM:-0700
TZOFFSETTO:-0800
TZNAME:PST
DTSTART:20251102T090000
END:STANDARD
END:VTIMEZONE
BEGIN:VEVENT
DTSTART;TZID=America/Vancouver:20240602T180000
DTEND;TZID=America/Vancouver:20240602T200000
DTSTAMP:20260423T223013
CREATED:20240531T201504Z
LAST-MODIFIED:20240531T201928Z
UID:22114-1717351200-1717358400@downtownpenticton.org
SUMMARY:Cannery Brewing Music Series: Okanagan Sax
DESCRIPTION:Join Cannery Brewing for their Sunday Night Wine & Music Series. \nJune 2nd \n6-8pm\nOkanagan Sax\nCurtis is a professional saxophonist\, composer\, and multi-instrumentalist that brings a sultry and soothing sound characteristic of the saxophone. He will play pop\, smooth jazz\, rock\, blues & latin classics from 6 to 8pm. No cover charge.
URL:https://downtownpenticton.org/event/cannery-brewing-music-series/
LOCATION:Cannery Brewing\, 198 Ellis St\, Penticton\, BC\, V2A 4L5\, Canada
CATEGORIES:What’s Going On
ATTACH;FMTTYPE=image/png:https://downtownpenticton.org/wp-content/uploads/2024/05/Events-Web-2.png
END:VEVENT
END:VCALENDAR