BEGIN:VCALENDAR
VERSION:2.0
PRODID:-//Downtown Penticton - ECPv6.15.20//NONSGML v1.0//EN
CALSCALE:GREGORIAN
METHOD:PUBLISH
X-WR-CALNAME:Downtown Penticton
X-ORIGINAL-URL:https://downtownpenticton.org
X-WR-CALDESC:Events for Downtown Penticton
REFRESH-INTERVAL;VALUE=DURATION:PT1H
X-Robots-Tag:noindex
X-PUBLISHED-TTL:PT1H
BEGIN:VTIMEZONE
TZID:America/Vancouver
BEGIN:DAYLIGHT
TZOFFSETFROM:-0800
TZOFFSETTO:-0700
TZNAME:PDT
DTSTART:20230312T100000
END:DAYLIGHT
BEGIN:STANDARD
TZOFFSETFROM:-0700
TZOFFSETTO:-0800
TZNAME:PST
DTSTART:20231105T090000
END:STANDARD
BEGIN:DAYLIGHT
TZOFFSETFROM:-0800
TZOFFSETTO:-0700
TZNAME:PDT
DTSTART:20240310T100000
END:DAYLIGHT
BEGIN:STANDARD
TZOFFSETFROM:-0700
TZOFFSETTO:-0800
TZNAME:PST
DTSTART:20241103T090000
END:STANDARD
BEGIN:DAYLIGHT
TZOFFSETFROM:-0800
TZOFFSETTO:-0700
TZNAME:PDT
DTSTART:20250309T100000
END:DAYLIGHT
BEGIN:STANDARD
TZOFFSETFROM:-0700
TZOFFSETTO:-0800
TZNAME:PST
DTSTART:20251102T090000
END:STANDARD
END:VTIMEZONE
BEGIN:VEVENT
DTSTART;TZID=America/Vancouver:20240526T130000
DTEND;TZID=America/Vancouver:20240526T160000
DTSTAMP:20260423T223011
CREATED:20240425T210308Z
LAST-MODIFIED:20240510T171651Z
UID:21982-1716728400-1716739200@downtownpenticton.org
SUMMARY:Slack Alley
DESCRIPTION:Get ready for the return of Slack Alley! Mark your calendars for Sunday\, May 26\, 2024\, from 1 to 4 pm\, where the vibrant energy of the 200 Main Street and Martin Street alleyway will come alive once again! \nJoin us for an extraordinary afternoon filled with live music\, engaging activities\, a delightful beverage garden\, and so much more! This event is the ultimate kickoff to the season’s festivities! \nLook forward to seeing you there!
URL:https://downtownpenticton.org/event/slack-alley/
LOCATION:Slack Alley\, Alley between 200 Block Main St and 200 Block Martin St\, Penticton\, BC\, Canada
CATEGORIES:DPBIA,What’s Going On
ATTACH;FMTTYPE=image/png:https://downtownpenticton.org/wp-content/uploads/2024/04/Slack-Alley-Website-2024.png
END:VEVENT
END:VCALENDAR