BEGIN:VCALENDAR
VERSION:2.0
PRODID:-//Downtown Penticton - ECPv6.15.20//NONSGML v1.0//EN
CALSCALE:GREGORIAN
METHOD:PUBLISH
X-WR-CALNAME:Downtown Penticton
X-ORIGINAL-URL:https://downtownpenticton.org
X-WR-CALDESC:Events for Downtown Penticton
REFRESH-INTERVAL;VALUE=DURATION:PT1H
X-Robots-Tag:noindex
X-PUBLISHED-TTL:PT1H
BEGIN:VTIMEZONE
TZID:America/Vancouver
BEGIN:DAYLIGHT
TZOFFSETFROM:-0800
TZOFFSETTO:-0700
TZNAME:PDT
DTSTART:20230312T100000
END:DAYLIGHT
BEGIN:STANDARD
TZOFFSETFROM:-0700
TZOFFSETTO:-0800
TZNAME:PST
DTSTART:20231105T090000
END:STANDARD
BEGIN:DAYLIGHT
TZOFFSETFROM:-0800
TZOFFSETTO:-0700
TZNAME:PDT
DTSTART:20240310T100000
END:DAYLIGHT
BEGIN:STANDARD
TZOFFSETFROM:-0700
TZOFFSETTO:-0800
TZNAME:PST
DTSTART:20241103T090000
END:STANDARD
BEGIN:DAYLIGHT
TZOFFSETFROM:-0800
TZOFFSETTO:-0700
TZNAME:PDT
DTSTART:20250309T100000
END:DAYLIGHT
BEGIN:STANDARD
TZOFFSETFROM:-0700
TZOFFSETTO:-0800
TZNAME:PST
DTSTART:20251102T090000
END:STANDARD
END:VTIMEZONE
BEGIN:VEVENT
DTSTART;TZID=America/Vancouver:20240519T070000
DTEND;TZID=America/Vancouver:20240519T170000
DTSTAMP:20260424T002514
CREATED:20240503T174558Z
LAST-MODIFIED:20240503T174848Z
UID:22017-1716102000-1716138000@downtownpenticton.org
SUMMARY:Maiya Robbie at Cannery Brewing
DESCRIPTION:May 19th\n5-7pm\nNo cover charge\nMaiya Robbie\nMaiya is a local interdisciplinary artist and singer/songwriter crafting soundscapes solo or collaboratively. Bask in her musical light as she delivers delicate acoustic melodies that weave intricate tales through her rich\, narrative lyrics.
URL:https://downtownpenticton.org/event/maiya-robbie-at-cannery-brewing/
LOCATION:Cannery Brewing\, 198 Ellis St\, Penticton\, BC\, V2A 4L5\, Canada
CATEGORIES:What’s Going On
ATTACH;FMTTYPE=image/jpeg:https://downtownpenticton.org/wp-content/uploads/2024/05/Maiya-Robbie-2022-02.jpeg
END:VEVENT
END:VCALENDAR