BEGIN:VCALENDAR
VERSION:2.0
PRODID:-//Downtown Penticton - ECPv6.15.20//NONSGML v1.0//EN
CALSCALE:GREGORIAN
METHOD:PUBLISH
X-ORIGINAL-URL:https://downtownpenticton.org
X-WR-CALDESC:Events for Downtown Penticton
REFRESH-INTERVAL;VALUE=DURATION:PT1H
X-Robots-Tag:noindex
X-PUBLISHED-TTL:PT1H
BEGIN:VTIMEZONE
TZID:America/Vancouver
BEGIN:DAYLIGHT
TZOFFSETFROM:-0800
TZOFFSETTO:-0700
TZNAME:PDT
DTSTART:20240310T100000
END:DAYLIGHT
BEGIN:STANDARD
TZOFFSETFROM:-0700
TZOFFSETTO:-0800
TZNAME:PST
DTSTART:20241103T090000
END:STANDARD
BEGIN:DAYLIGHT
TZOFFSETFROM:-0800
TZOFFSETTO:-0700
TZNAME:PDT
DTSTART:20250309T100000
END:DAYLIGHT
BEGIN:STANDARD
TZOFFSETFROM:-0700
TZOFFSETTO:-0800
TZNAME:PST
DTSTART:20251102T090000
END:STANDARD
BEGIN:DAYLIGHT
TZOFFSETFROM:-0800
TZOFFSETTO:-0700
TZNAME:PDT
DTSTART:20260308T100000
END:DAYLIGHT
BEGIN:STANDARD
TZOFFSETFROM:-0700
TZOFFSETTO:-0800
TZNAME:PST
DTSTART:20261101T090000
END:STANDARD
END:VTIMEZONE
BEGIN:VEVENT
DTSTART;TZID=America/Vancouver:20250112T170000
DTEND;TZID=America/Vancouver:20250112T190000
DTSTAMP:20260423T102412
CREATED:20241218T234347Z
LAST-MODIFIED:20241218T234347Z
UID:22630-1736701200-1736708400@downtownpenticton.org
SUMMARY:Okanagan Sax at Cannery Taproom
DESCRIPTION:January 12\, 2025\nOkanagan Sax 5-7pm\nCurtis is a professional saxophonist\, composer\, and multi-instrumentalist that brings a sultry and soothing sound characteristic of the saxophone. He will play pop\, smooth jazz\, rock\, blues & latin classics from 5 to 7pm. No cover charge.
URL:https://downtownpenticton.org/event/okanagan-sax-at-cannery-taproom/2025-01-12/
LOCATION:Cannery Brewing\, 198 Ellis St\, Penticton\, BC\, V2A 4L5\, Canada
CATEGORIES:What’s Going On
ATTACH;FMTTYPE=image/jpeg:https://downtownpenticton.org/wp-content/uploads/2024/06/Okanagan-Sax.jpg
END:VEVENT
BEGIN:VEVENT
DTSTART;TZID=America/Vancouver:20250115T190000
DTEND;TZID=America/Vancouver:20250115T190000
DTSTAMP:20260423T102412
CREATED:20241217T175524Z
LAST-MODIFIED:20241217T181618Z
UID:22618-1736967600-1736967600@downtownpenticton.org
SUMMARY:Soundstage Productions - Something Rotten!
DESCRIPTION:Join the Penticton Lakeside Resort & Conference Centre for a night of laughs and music with the hilarious musical “Something Rotten!” presented by Soundstage Productions. Get ready for a fun-filled evening full of catchy tunes\, witty humour\, and talented performers. Don’t miss out on this fantastic event! \nShow Dates: January 15th – 18th\, 2025\nShow Times: 7pm & Saturday matinee 1pm & 7pm\nLocation: East Ballroom\nTickets: $65 + GST – No refunds or exchanges \nPurchase tickets online at the Penticton Lakeside Resort
URL:https://downtownpenticton.org/event/soundstage-productions-something-rotten/2025-01-15/
LOCATION:The Penticton Lakeside Resort\, 21 Lakeshore Drive W\, Penticton\, BC\, V2A 7M5\, Canada
CATEGORIES:What’s Going On
ATTACH;FMTTYPE=image/jpeg:https://downtownpenticton.org/wp-content/uploads/2024/12/Something-Rotten-EventBoards4-scaled.jpg
END:VEVENT
BEGIN:VEVENT
DTSTART;TZID=America/Vancouver:20250116T190000
DTEND;TZID=America/Vancouver:20250116T190000
DTSTAMP:20260423T102412
CREATED:20241217T175524Z
LAST-MODIFIED:20241217T181618Z
UID:22620-1737054000-1737054000@downtownpenticton.org
SUMMARY:Soundstage Productions - Something Rotten!
DESCRIPTION:Join the Penticton Lakeside Resort & Conference Centre for a night of laughs and music with the hilarious musical “Something Rotten!” presented by Soundstage Productions. Get ready for a fun-filled evening full of catchy tunes\, witty humour\, and talented performers. Don’t miss out on this fantastic event! \nShow Dates: January 15th – 18th\, 2025\nShow Times: 7pm & Saturday matinee 1pm & 7pm\nLocation: East Ballroom\nTickets: $65 + GST – No refunds or exchanges \nPurchase tickets online at the Penticton Lakeside Resort
URL:https://downtownpenticton.org/event/soundstage-productions-something-rotten/2025-01-16/
LOCATION:The Penticton Lakeside Resort\, 21 Lakeshore Drive W\, Penticton\, BC\, V2A 7M5\, Canada
CATEGORIES:What’s Going On
ATTACH;FMTTYPE=image/jpeg:https://downtownpenticton.org/wp-content/uploads/2024/12/Something-Rotten-EventBoards4-scaled.jpg
END:VEVENT
BEGIN:VEVENT
DTSTART;VALUE=DATE:20250117
DTEND;VALUE=DATE:20250120
DTSTAMP:20260423T102412
CREATED:20250108T190027Z
LAST-MODIFIED:20250108T195227Z
UID:22641-1737072000-1737331199@downtownpenticton.org
SUMMARY:Valley First Frost Fest Winter Carnival
DESCRIPTION:The Valley First Frost Fest Winter Carnival is a high-energy festival in the heart of downtown Penticton. The inaugural event in 2024 was a big success\, and it will be even bigger in 2025! Frost Fest will be expand to three days over January 17-19 and will feature: \n\nA family-friendly movie night\nAll-day ice activities run by the Penticton Vees\nKids activities & stations run by Ha Ha Ha Kidzfest\nA new-and-improved snowboard rail jam\nHot air balloon glow up event\nFrosty toes winter swim in Okanagan Lake\nFood trucks and a beverage garden\n& MORE!\n\nThrow on your warm gear and come out to join in on the weekend fun! \nLeading up to and during Frost Fest\, from January 10-19\, you can vote  in the Frost Fest Cocktail/Mocktail Competition\, where local bars and restaurants are competing for best Frost Fest Cocktail/Mocktail! Sip on these frosty creations from The Hub on Martin\, Kin & Folk\, Sociale\, The Barley Mill Brew Pub\, Joos Box\, and The Barking Parrot – then cast your vote for your favorite! \nSchedule of Events:\nActivities will begin on Friday\, January 17 and go until midday on Sunday\, January 19. Check here the full schedule of events!
URL:https://downtownpenticton.org/event/valley-first-frost-fest-winter-carnival/
LOCATION:Gyro Park\, 55 Main St\, Penticton\, BC\, V2A 5K1\, Canada
CATEGORIES:What’s Going On
ATTACH;FMTTYPE=image/png:https://downtownpenticton.org/wp-content/uploads/2025/01/FrostFest2025.png
END:VEVENT
BEGIN:VEVENT
DTSTART;TZID=America/Vancouver:20250117T190000
DTEND;TZID=America/Vancouver:20250117T190000
DTSTAMP:20260423T102412
CREATED:20241217T175524Z
LAST-MODIFIED:20241217T181618Z
UID:22621-1737140400-1737140400@downtownpenticton.org
SUMMARY:Soundstage Productions - Something Rotten!
DESCRIPTION:Join the Penticton Lakeside Resort & Conference Centre for a night of laughs and music with the hilarious musical “Something Rotten!” presented by Soundstage Productions. Get ready for a fun-filled evening full of catchy tunes\, witty humour\, and talented performers. Don’t miss out on this fantastic event! \nShow Dates: January 15th – 18th\, 2025\nShow Times: 7pm & Saturday matinee 1pm & 7pm\nLocation: East Ballroom\nTickets: $65 + GST – No refunds or exchanges \nPurchase tickets online at the Penticton Lakeside Resort
URL:https://downtownpenticton.org/event/soundstage-productions-something-rotten/2025-01-17/
LOCATION:The Penticton Lakeside Resort\, 21 Lakeshore Drive W\, Penticton\, BC\, V2A 7M5\, Canada
CATEGORIES:What’s Going On
ATTACH;FMTTYPE=image/jpeg:https://downtownpenticton.org/wp-content/uploads/2024/12/Something-Rotten-EventBoards4-scaled.jpg
END:VEVENT
BEGIN:VEVENT
DTSTART;TZID=America/Vancouver:20250118T190000
DTEND;TZID=America/Vancouver:20250118T190000
DTSTAMP:20260423T102412
CREATED:20241217T175524Z
LAST-MODIFIED:20241217T181618Z
UID:22622-1737226800-1737226800@downtownpenticton.org
SUMMARY:Soundstage Productions - Something Rotten!
DESCRIPTION:Join the Penticton Lakeside Resort & Conference Centre for a night of laughs and music with the hilarious musical “Something Rotten!” presented by Soundstage Productions. Get ready for a fun-filled evening full of catchy tunes\, witty humour\, and talented performers. Don’t miss out on this fantastic event! \nShow Dates: January 15th – 18th\, 2025\nShow Times: 7pm & Saturday matinee 1pm & 7pm\nLocation: East Ballroom\nTickets: $65 + GST – No refunds or exchanges \nPurchase tickets online at the Penticton Lakeside Resort
URL:https://downtownpenticton.org/event/soundstage-productions-something-rotten/2025-01-18/
LOCATION:The Penticton Lakeside Resort\, 21 Lakeshore Drive W\, Penticton\, BC\, V2A 7M5\, Canada
CATEGORIES:What’s Going On
ATTACH;FMTTYPE=image/jpeg:https://downtownpenticton.org/wp-content/uploads/2024/12/Something-Rotten-EventBoards4-scaled.jpg
END:VEVENT
BEGIN:VEVENT
DTSTART;TZID=America/Vancouver:20250119T150000
DTEND;TZID=America/Vancouver:20250119T180000
DTSTAMP:20260423T102412
CREATED:20250115T182532Z
LAST-MODIFIED:20250115T182630Z
UID:22651-1737298800-1737309600@downtownpenticton.org
SUMMARY:Opening the heart: a breathwork journey into vulnerability
DESCRIPTION:BREATHE INTO YOUR HEART \nVulnerability isn’t a weakness. It’s a pathway to deeper connection\, self-love\, and emotional freedom. This January 19th\, join me for a somatic breathwork session where we’ll tap into the transformative power of breath to soften\, heal\, and open our hearts. \n Date: Sunday\, January 19th  Time: 3:00 PM – 6:00 PM\nCedar & Soul Wellness in Penticton\nLimited spaces available – reserve yours now!  \nTickets on sale on Eventbrite!
URL:https://downtownpenticton.org/event/opening-the-heart-a-breathwork-journey-into-vulnerability/
LOCATION:Cedar & Soul Wellness\, 29 Front St\, Penticton\, BC\, V2A 1H2\, Canada
CATEGORIES:What’s Going On
END:VEVENT
BEGIN:VEVENT
DTSTART;TZID=America/Vancouver:20250119T170000
DTEND;TZID=America/Vancouver:20250119T190000
DTSTAMP:20260423T102412
CREATED:20241218T234347Z
LAST-MODIFIED:20241218T234613Z
UID:22631-1737306000-1737313200@downtownpenticton.org
SUMMARY:Jim Ongena at Cannery Taproom
DESCRIPTION:January 19\, 2025\nJim Ongena 5-7pm\nJim will be telling stories through the folky-soft songs of Dylan\, Prine\, Seeger and more.
URL:https://downtownpenticton.org/event/cannery-taproom-2025-01-19/
LOCATION:Cannery Brewing\, 198 Ellis St\, Penticton\, BC\, V2A 4L5\, Canada
CATEGORIES:What’s Going On
END:VEVENT
BEGIN:VEVENT
DTSTART;TZID=America/Vancouver:20250126T170000
DTEND;TZID=America/Vancouver:20250126T190000
DTSTAMP:20260423T102412
CREATED:20241218T234347Z
LAST-MODIFIED:20250116T231932Z
UID:22632-1737910800-1737918000@downtownpenticton.org
SUMMARY:Chayce Kennedy at Cannery Taproom
DESCRIPTION:January 26\, 2025\nChayce Kennedy 5-7pm\nDetermined to empower other young women to discover and enjoy their own unique identity and purpose\, Chayce exudes a contemporary pop energy through songs that are personal by nature and relatable in meaning.
URL:https://downtownpenticton.org/event/cannery-taproom-2025-01-26/2025-01-26/
LOCATION:Cannery Brewing\, 198 Ellis St\, Penticton\, BC\, V2A 4L5\, Canada
CATEGORIES:What’s Going On
ATTACH;FMTTYPE=image/jpeg:https://downtownpenticton.org/wp-content/uploads/2024/06/Chayce-Kennedy-scaled.jpg
END:VEVENT
BEGIN:VEVENT
DTSTART;TZID=America/Vancouver:20250128T080000
DTEND;TZID=America/Vancouver:20250128T170000
DTSTAMP:20260423T102412
CREATED:20250110T214141Z
LAST-MODIFIED:20250110T214141Z
UID:22649-1738051200-1738083600@downtownpenticton.org
SUMMARY:Harlem Globetrotters 2025 World Tour
DESCRIPTION:Location: South Okanagan Events Centre\nTime: Doors @ 6:00PM | Show @ 7:00PM \nTickets start at $25\, Harlem Globetrotters fans can score the best seats online at https://bit.ly/HGSOEC or in person at the Valley First Box Office at the SOEC \nGet ready for high-flying fun as the world-famous Harlem Globetrotters make their victorious return to the South Okanagan Events Centre (SOEC) in Penticton! This is your chance to witness the World Record-breaking\, trick-shot stars of basketball LIVE as they bring their signature SPINS\, DUNKS\, and SLAMS to the court\, taking on their renowned rivals\, the Washington Generals\, Tuesday\, January 28\, 2025. \nThis year we’re bringing FUN and innovative CHALLENGES to showcase our superstars’ impressive skills and seemingly impossible feats of athleticism. Watch in awe as players go head-to-head in an exhilarating battle of skills featuring epic dunks\, jaw-dropping four-point shots\, and more—it’s friendly competition at its most exciting! \nFans can also enjoy unmatched engagement through pre-game Magic Pass access\, unforgettable post-game access\, and more in-game fan interactions than ever before. \nYOU might even find yourself mid-court as a part of the FAN-FILLED Halftime Skills Showcase! \nHarlem Globetrotters fans can score the best seats for Penticton’s date online at https://bit.ly/HGSOEC or in person at the Valley First Box Office at the SOEC
URL:https://downtownpenticton.org/event/harlem-globetrotters-2025-world-tour/
LOCATION:South Okanagan Events Centre\, 853 Eckhardt Ave\, Penticton\, BC\, V2A 9C4\, Canada
CATEGORIES:What’s Going On
END:VEVENT
END:VCALENDAR