BEGIN:VCALENDAR
VERSION:2.0
PRODID:-//Downtown Penticton - ECPv6.15.20//NONSGML v1.0//EN
CALSCALE:GREGORIAN
METHOD:PUBLISH
X-ORIGINAL-URL:https://downtownpenticton.org
X-WR-CALDESC:Events for Downtown Penticton
REFRESH-INTERVAL;VALUE=DURATION:PT1H
X-Robots-Tag:noindex
X-PUBLISHED-TTL:PT1H
BEGIN:VTIMEZONE
TZID:America/Vancouver
BEGIN:DAYLIGHT
TZOFFSETFROM:-0800
TZOFFSETTO:-0700
TZNAME:PDT
DTSTART:20230312T100000
END:DAYLIGHT
BEGIN:STANDARD
TZOFFSETFROM:-0700
TZOFFSETTO:-0800
TZNAME:PST
DTSTART:20231105T090000
END:STANDARD
BEGIN:DAYLIGHT
TZOFFSETFROM:-0800
TZOFFSETTO:-0700
TZNAME:PDT
DTSTART:20240310T100000
END:DAYLIGHT
BEGIN:STANDARD
TZOFFSETFROM:-0700
TZOFFSETTO:-0800
TZNAME:PST
DTSTART:20241103T090000
END:STANDARD
BEGIN:DAYLIGHT
TZOFFSETFROM:-0800
TZOFFSETTO:-0700
TZNAME:PDT
DTSTART:20250309T100000
END:DAYLIGHT
BEGIN:STANDARD
TZOFFSETFROM:-0700
TZOFFSETTO:-0800
TZNAME:PST
DTSTART:20251102T090000
END:STANDARD
END:VTIMEZONE
BEGIN:VEVENT
DTSTART;TZID=America/Vancouver:20241201T160000
DTEND;TZID=America/Vancouver:20241201T190000
DTSTAMP:20260423T120545
CREATED:20240924T170518Z
LAST-MODIFIED:20240924T170518Z
UID:22372-1733068800-1733079600@downtownpenticton.org
SUMMARY:Magic on Main Street - Santa Claus Parade & Light Up
DESCRIPTION:Ho\, ho\, ho! This magical event features dozens of floats taking part in the Santa Claus Parade\, cruising down Main Street. Families are encouraged to join the procession down to Gyro Park\, which will followed by the official Light Up. \nVisit City of Penticton for further information.
URL:https://downtownpenticton.org/event/magic-on-main-street-santa-claus-parade-light-up/
LOCATION:Gyro Park\, 55 Main St\, Penticton\, BC\, V2A 5K1\, Canada
CATEGORIES:What’s Going On
ATTACH;FMTTYPE=image/png:https://downtownpenticton.org/wp-content/uploads/2024/09/Final-8.png
END:VEVENT
BEGIN:VEVENT
DTSTART;TZID=America/Vancouver:20241201T170000
DTEND;TZID=America/Vancouver:20241201T190000
DTSTAMP:20260423T120545
CREATED:20240827T163524Z
LAST-MODIFIED:20241203T171600Z
UID:22587-1733072400-1733079600@downtownpenticton.org
SUMMARY:Bran Sanders in Cannery Brewing Taproom
DESCRIPTION:Dec 1 – 5-7pm – Bran Sanders \nBran is a folk singer based in West Kelowna. His musical style is directly shaped by a rich heritage of old-time and traditional folk music\, drawing inspiration from artists like Doc Watson and Dave Van Ronk.
URL:https://downtownpenticton.org/event/cannery-brewing-taproom-2024-12-01/
LOCATION:Cannery Brewing\, 198 Ellis St\, Penticton\, BC\, V2A 4L5\, Canada
CATEGORIES:What’s Going On
ATTACH;FMTTYPE=image/jpeg:https://downtownpenticton.org/wp-content/uploads/2024/05/Bran-Sanders-scaled.jpg
END:VEVENT
BEGIN:VEVENT
DTSTART;TZID=America/Vancouver:20241206T180000
DTEND;TZID=America/Vancouver:20241206T210000
DTSTAMP:20260423T120545
CREATED:20240910T165235Z
LAST-MODIFIED:20240910T165235Z
UID:22349-1733508000-1733518800@downtownpenticton.org
SUMMARY:Joos Box Paint Night
DESCRIPTION:Unleash your inner artist and creativity at Joos Box’s Paint Nights! No experience necessary – just bring yourself and your sense of adventure! \nLimited spaces available\, so register early! (26 spots total). Tickets cost $48 each. \nPainting supplies provided\, price includes a signature mocktail some light food pairings! \n8×10 acrylic painting on canvas with a seasonal theme! \nGet tickets at joosbox.ca
URL:https://downtownpenticton.org/event/joos-box-paint-night/2024-12-06/
LOCATION:Joos Box\, 283 Brunswick St\, Penticton\, BC\, V2A 5P9\, Canada
CATEGORIES:What’s Going On
ATTACH;FMTTYPE=image/png:https://downtownpenticton.org/wp-content/uploads/2024/09/image_2024-09-07_190114681.png
ORGANIZER;CN="Joos Box":MAILTO:meetme@joosbox.ca
END:VEVENT
BEGIN:VEVENT
DTSTART;TZID=America/Vancouver:20241208T170000
DTEND;TZID=America/Vancouver:20241208T190000
DTSTAMP:20260423T120545
CREATED:20241127T173524Z
LAST-MODIFIED:20241203T172049Z
UID:22588-1733677200-1733684400@downtownpenticton.org
SUMMARY:Darylectones in Cannery Brewing Taproom
DESCRIPTION:Dec 8 – 5-7pm – Darylectones \nWith a style that defies easy categorization\, Darylectones blends elements of blues\, folk\, and soul into a tapestry of sound that’s all his own. Daryl will craft a truly unique musical experience from 5 to 7pm.
URL:https://downtownpenticton.org/event/cannery-brewing-taproom-2024-12-08/
LOCATION:Cannery Brewing\, 198 Ellis St\, Penticton\, BC\, V2A 4L5\, Canada
CATEGORIES:What’s Going On
ATTACH;FMTTYPE=image/jpeg:https://downtownpenticton.org/wp-content/uploads/2024/08/DarylONeill.jpeg
END:VEVENT
BEGIN:VEVENT
DTSTART;TZID=America/Vancouver:20241214T130000
DTEND;TZID=America/Vancouver:20241214T160000
DTSTAMP:20260423T120545
CREATED:20240910T172351Z
LAST-MODIFIED:20240910T172351Z
UID:22362-1734181200-1734192000@downtownpenticton.org
SUMMARY:Mini Holiday Candy House Building at Joos Box
DESCRIPTION:Get your holiday cheer on with some candy house building and decorating! Don’t forget the icing and gumdrop buttons! \nLimited spaces available\, so register early! (13 spots total). Tickets cost $42 each. \nChildren must be accompanied by an adult! \nTicket price includes all necessary supplies\, 1 drink for child\, 1 drink for adult\, snacks and aprons. Feel free to email meetme@joosbox.ca if you have any questions or allergies/sensitivities we should know about! \nGet tickets at joosbox.ca
URL:https://downtownpenticton.org/event/mini-holiday-candy-house-building-at-joos-box/
LOCATION:Joos Box\, 283 Brunswick St\, Penticton\, BC\, V2A 5P9\, Canada
CATEGORIES:What’s Going On
ATTACH;FMTTYPE=image/jpeg:https://downtownpenticton.org/wp-content/uploads/2024/09/image_2024-09-07_195151409.jpg
ORGANIZER;CN="Joos Box":MAILTO:meetme@joosbox.ca
END:VEVENT
BEGIN:VEVENT
DTSTART;TZID=America/Vancouver:20241214T180000
DTEND;TZID=America/Vancouver:20241214T180000
DTSTAMP:20260423T120545
CREATED:20241016T205352Z
LAST-MODIFIED:20241016T205352Z
UID:22469-1734199200-1734199200@downtownpenticton.org
SUMMARY:The 29th Annual Largest Small Office Party
DESCRIPTION:The 29th Annual Largest Small Office Party brings together businesses & friends to celebrate the holiday season in style! Whether you are a team of 5 or 50\, join the celebration with a grand Christmas buffet\, cash bar\, DJ\, prize giveaways & more! \n\n\nJoin the Party This Holiday Season! \nDate: December 14th\, 2024\nTime: 6:00pm\nLocation: East Ballroom\nPrice: $80.00 Per person (Includes tax & service charge)\nFor every 12 people booked\, receive a complimentary night stay!\n(Valid for the night of December 14th only) \nExclusive rates starting at only $99 for the night.* \n*Based on double occupancy\, subject to availability & applicable taxes. \n\n\n\n\n\nTo Book Your Christmas Party Contact: \nSarah Welke | Special Events Coordinator\nDirect: 250.493.9752 or sarah@rpbhotels.com \nGet in Touch 
URL:https://downtownpenticton.org/event/the-29th-annual-largest-small-office-party/
LOCATION:The Penticton Lakeside Resort\, 21 Lakeshore Drive W\, Penticton\, BC\, V2A 7M5\, Canada
CATEGORIES:What’s Going On
ATTACH;FMTTYPE=image/jpeg:https://downtownpenticton.org/wp-content/uploads/2024/10/463423278_1060300506096839_8918600080785287632_n.jpg
END:VEVENT
BEGIN:VEVENT
DTSTART;TZID=America/Vancouver:20241215T170000
DTEND;TZID=America/Vancouver:20241215T190000
DTSTAMP:20260423T120545
CREATED:20241127T173524Z
LAST-MODIFIED:20241203T171746Z
UID:22589-1734282000-1734289200@downtownpenticton.org
SUMMARY:Justin Koshman in Cannery Brewing Taproom
DESCRIPTION:Dec 15 – 5-7pm – Justin Koshman \nLocal singer-songwriter Justin Koshman joins us to perform a blend of roots-folk and beach rock music that’s sure to delight your ears and lift your spirits.
URL:https://downtownpenticton.org/event/cannery-brewing-taproom-2024-12-15/
LOCATION:Cannery Brewing\, 198 Ellis St\, Penticton\, BC\, V2A 4L5\, Canada
CATEGORIES:What’s Going On
ATTACH;FMTTYPE=image/jpeg:https://downtownpenticton.org/wp-content/uploads/2024/06/JustinKoshman-1.jpg
END:VEVENT
BEGIN:VEVENT
DTSTART;TZID=America/Vancouver:20241219T190000
DTEND;TZID=America/Vancouver:20241219T210000
DTSTAMP:20260423T120545
CREATED:20241120T233528Z
LAST-MODIFIED:20241120T233528Z
UID:22567-1734634800-1734642000@downtownpenticton.org
SUMMARY:Penticton Concert Band Winter Concert: "How Sweet the Sound"
DESCRIPTION:Mark your calendars for Dec. 19: \nThe Penticton Concert Band Winter Concert “How Sweet the Sound” \nDate and Time: 7pm on Thursday December 19\, 2024 \nLocation: Concordia Lutheran Church at 2800 S Main (South Main at Green Avenue).\nTickets $20 adults and $5 students. Only available at the door. \nWe’re rehearsing cozy Christmas tunes for you\, exciting fanfares\, show hits\, jazzy tribute pieces and much more. \nSee you soon and happy holidays.
URL:https://downtownpenticton.org/event/penticton-concert-band-winter-concert-how-sweet-the-sound/
LOCATION:Concordia Lutheran Church\, 2800 S Main St\, Penticton\, BC\, Canada
CATEGORIES:What’s Going On
ATTACH;FMTTYPE=image/jpeg:https://downtownpenticton.org/wp-content/uploads/2024/11/WinterConcert2024PCB.jpg
END:VEVENT
BEGIN:VEVENT
DTSTART;TZID=America/Vancouver:20241220T120000
DTEND;TZID=America/Vancouver:20241220T140000
DTSTAMP:20260423T120545
CREATED:20241119T172729Z
LAST-MODIFIED:20241119T174517Z
UID:22542-1734696000-1734703200@downtownpenticton.org
SUMMARY:Lunch with Santa at the Penticton Lakeside Resort
DESCRIPTION:Enjoy a festive holiday lunch buffet with live music & a visit from Santa! \nDate: December 20th\, 2024\nTime: 12pm – 2pm\nLocation: West Conference Centre\nPrice: Adults $30.00\nChildren ages 11-17 $15\nChildren ages 4-10 $1.50/year\nChildren 3 & under free\n(Prices are subject to 18% service charge & 5% GST)\nPayment required at time of booking. \nTo purchase tickets contact Sarah at 250.493.9752 or email: sarah@rpbhotels.com
URL:https://downtownpenticton.org/event/lunch-with-santa-at-the-penticton-lakeside-resort/
LOCATION:The Penticton Lakeside Resort\, 21 Lakeshore Drive W\, Penticton\, BC\, V2A 7M5\, Canada
CATEGORIES:What’s Going On
ATTACH;FMTTYPE=image/jpeg:https://downtownpenticton.org/wp-content/uploads/2024/11/Lunch-with-Santa-2024-Web.jpg
END:VEVENT
BEGIN:VEVENT
DTSTART;TZID=America/Vancouver:20241221T190000
DTEND;TZID=America/Vancouver:20241221T190000
DTSTAMP:20260423T120545
CREATED:20241218T234100Z
LAST-MODIFIED:20241218T234129Z
UID:22627-1734807600-1734807600@downtownpenticton.org
SUMMARY:Sandra Kunz Live @ Highway 97 Penticton
DESCRIPTION:Join Highway 97 for an evening of soul-stirring music with **Sandra Kunz**\, live at **Highway 97 Brewing Company** in Penticton!  \n **When:** Saturday\, December 21\, 2024\n **Time:** 7:00 PM\n **No Cover Charge!** \n Sandra Kunz delivers heartfelt folk and acoustic music that will soothe your soul and leave you inspired. It’s the perfect way to relax and enjoy the holiday season with friends and great tunes. \n Pair her beautiful performance with Highway 97 Brewing’s excellent craft beers and delicious snacks for an unforgettable evening. \n Bring your friends and come support local music at its finest. We’ll see you there! 
URL:https://downtownpenticton.org/event/sandra-kunz-live-highway-97-penticton/
LOCATION:Highway 97 Brewing Company\, 200 Ellis St\, Penticton\, BC\, Canada
CATEGORIES:What’s Going On
ATTACH;FMTTYPE=image/jpeg:https://downtownpenticton.org/wp-content/uploads/2024/12/12-21-2024-Sandra-Kunz-HW97.jpg
END:VEVENT
BEGIN:VEVENT
DTSTART;TZID=America/Vancouver:20241222T170000
DTEND;TZID=America/Vancouver:20241222T190000
DTSTAMP:20260423T120545
CREATED:20241127T173524Z
LAST-MODIFIED:20241210T182325Z
UID:22590-1734886800-1734894000@downtownpenticton.org
SUMMARY:Sandra Kunz in Cannery Brewing Taproom
DESCRIPTION:Dec 22 – 5-7pm – Sandra Kunz \nSandra is a local Penticton artist whose music speaks of simpler times. Inspired by the beauty of the lakes and mountains\, she crafts folk and old-time country music to make your heart sing.
URL:https://downtownpenticton.org/event/cannery-brewing-taproom-2024-12-22/
LOCATION:Cannery Brewing\, 198 Ellis St\, Penticton\, BC\, V2A 4L5\, Canada
CATEGORIES:What’s Going On
ATTACH;FMTTYPE=image/png:https://downtownpenticton.org/wp-content/uploads/2024/11/Sandra-Kunz.png
END:VEVENT
BEGIN:VEVENT
DTSTART;TZID=America/Vancouver:20241229T170000
DTEND;TZID=America/Vancouver:20241229T190000
DTSTAMP:20260423T120545
CREATED:20241127T173524Z
LAST-MODIFIED:20241203T172006Z
UID:22591-1735491600-1735498800@downtownpenticton.org
SUMMARY:Taylor Van Zant in Cannery Brewing Taproom
DESCRIPTION:Dec 29 – 5-7pm – Taylor Van Zant \nTaylor is a local singer-songwriter inspired by the breathtaking landscapes of the Okanagan and his own life experiences to create soulful melodies that blend haunting and energetic vibes.
URL:https://downtownpenticton.org/event/cannery-brewing-taproom-2024-12-29/
LOCATION:Cannery Brewing\, 198 Ellis St\, Penticton\, BC\, V2A 4L5\, Canada
CATEGORIES:What’s Going On
ATTACH;FMTTYPE=image/jpeg:https://downtownpenticton.org/wp-content/uploads/2024/06/Taylor-Van-Zant-scaled.jpg
END:VEVENT
END:VCALENDAR