BEGIN:VCALENDAR
VERSION:2.0
PRODID:-//Downtown Penticton - ECPv6.15.20//NONSGML v1.0//EN
CALSCALE:GREGORIAN
METHOD:PUBLISH
X-ORIGINAL-URL:https://downtownpenticton.org
X-WR-CALDESC:Events for Downtown Penticton
REFRESH-INTERVAL;VALUE=DURATION:PT1H
X-Robots-Tag:noindex
X-PUBLISHED-TTL:PT1H
BEGIN:VTIMEZONE
TZID:America/Vancouver
BEGIN:DAYLIGHT
TZOFFSETFROM:-0800
TZOFFSETTO:-0700
TZNAME:PDT
DTSTART:20230312T100000
END:DAYLIGHT
BEGIN:STANDARD
TZOFFSETFROM:-0700
TZOFFSETTO:-0800
TZNAME:PST
DTSTART:20231105T090000
END:STANDARD
BEGIN:DAYLIGHT
TZOFFSETFROM:-0800
TZOFFSETTO:-0700
TZNAME:PDT
DTSTART:20240310T100000
END:DAYLIGHT
BEGIN:STANDARD
TZOFFSETFROM:-0700
TZOFFSETTO:-0800
TZNAME:PST
DTSTART:20241103T090000
END:STANDARD
BEGIN:DAYLIGHT
TZOFFSETFROM:-0800
TZOFFSETTO:-0700
TZNAME:PDT
DTSTART:20250309T100000
END:DAYLIGHT
BEGIN:STANDARD
TZOFFSETFROM:-0700
TZOFFSETTO:-0800
TZNAME:PST
DTSTART:20251102T090000
END:STANDARD
END:VTIMEZONE
BEGIN:VEVENT
DTSTART;TZID=America/Vancouver:20241103T170000
DTEND;TZID=America/Vancouver:20241103T190000
DTSTAMP:20260423T135139
CREATED:20240827T163524Z
LAST-MODIFIED:20241023T174216Z
UID:22475-1730653200-1730660400@downtownpenticton.org
SUMMARY:Amaranto in Cannery Brewing Taproom
DESCRIPTION:Nov. 3 – Amaranto – 5 to 7pm \nPrepare to be dazzled as this extraordinary Argentinian duo ignites the night with the fiery beats of Brazilian samba and an enchanting blend of Latin American harmonies. Join us from 5 to 7pm for a musical experience that will leave you spellbound! No cover charge.
URL:https://downtownpenticton.org/event/cannery-brewing-taproom-2024-11-03/
LOCATION:Cannery Brewing\, 198 Ellis St\, Penticton\, BC\, V2A 4L5\, Canada
CATEGORIES:What’s Going On
ATTACH;FMTTYPE=image/jpeg:https://downtownpenticton.org/wp-content/uploads/2024/08/Amaranto.jpg
END:VEVENT
BEGIN:VEVENT
DTSTART;TZID=America/Vancouver:20241108T190000
DTEND;TZID=America/Vancouver:20241108T203000
DTSTAMP:20260423T135139
CREATED:20240924T172739Z
LAST-MODIFIED:20240924T172739Z
UID:22381-1731092400-1731097800@downtownpenticton.org
SUMMARY:Holiday Live Wreath Workshop
DESCRIPTION:Get into the holiday spirit by creating your own beautiful holiday wreath. We will guide you through the process to create. \nThis workshop is perfect for everyone. No experience necessary. \nWreath frame\, pine\, cedar\, noble fir\, pine cones and festive decorations all included \n$55.00 per person
URL:https://downtownpenticton.org/event/holiday-live-wreath-workshop/
LOCATION:Sahara Garden Art\, 407 Martin St\, Penticton\, V2A 5L1\, Canada
CATEGORIES:What’s Going On
ORGANIZER;CN="Sahara Garden Art":MAILTO:SAHARAGARDENART@GMAIL.COM
END:VEVENT
BEGIN:VEVENT
DTSTART;TZID=America/Vancouver:20241110T170000
DTEND;TZID=America/Vancouver:20241110T190000
DTSTAMP:20260423T135139
CREATED:20240827T163524Z
LAST-MODIFIED:20241023T174331Z
UID:22476-1731258000-1731265200@downtownpenticton.org
SUMMARY:Maiya Robbie in Cannery Brewing Taproom
DESCRIPTION:Nov 10 – Maiya Robbie – 5 to 7pm \nMaiya is a local interdisciplinary artist and singer/songwriter crafting soundscapes solo or collaboratively. Bask in her musical light as she delivers delicate acoustic melodies that weave intricate tales through her rich\, narrative lyrics.
URL:https://downtownpenticton.org/event/cannery-brewing-taproom-2024-11-10/
LOCATION:Cannery Brewing\, 198 Ellis St\, Penticton\, BC\, V2A 4L5\, Canada
CATEGORIES:What’s Going On
ATTACH;FMTTYPE=image/jpeg:https://downtownpenticton.org/wp-content/uploads/2024/05/Maiya-Robbie-2022-02.jpeg
END:VEVENT
BEGIN:VEVENT
DTSTART;TZID=America/Vancouver:20241114T180000
DTEND;TZID=America/Vancouver:20241114T210000
DTSTAMP:20260423T135139
CREATED:20240910T171151Z
LAST-MODIFIED:20240910T171307Z
UID:22356-1731607200-1731618000@downtownpenticton.org
SUMMARY:Joos Box Winter Mocktail Class
DESCRIPTION:Want to learn how the magic is made? Now you can with our seasonal mocktail crafting classes! \nLimited spaces available\, so register early! (10 spots total). Tickets cost $40 each. \nWe’ll supply you with everything needed to make 3 signature drinks with seasonal flavours! \nGet tickets at joosbox.ca
URL:https://downtownpenticton.org/event/joos-box-winter-mocktail-class/
LOCATION:Joos Box\, 283 Brunswick St\, Penticton\, BC\, V2A 5P9\, Canada
CATEGORIES:What’s Going On
ATTACH;FMTTYPE=image/jpeg:https://downtownpenticton.org/wp-content/uploads/2024/09/image_2024-09-07_192535345-1.jpg
ORGANIZER;CN="Joos Box":MAILTO:meetme@joosbox.ca
END:VEVENT
BEGIN:VEVENT
DTSTART;TZID=America/Vancouver:20241116T100000
DTEND;TZID=America/Vancouver:20241117T170000
DTSTAMP:20260423T135139
CREATED:20241113T184242Z
LAST-MODIFIED:20241113T184242Z
UID:22508-1731751200-1731862800@downtownpenticton.org
SUMMARY:SEEK Bespoke Market
DESCRIPTION:The SEEK Bespoke Market showcases creative entrepreneurs\, including designers\, small shop owners and makers. Our curated markets attract socially conscious shoppers who can find a selection of items such as handcrafted jewellery\, ceramics\, artisanal foods and beverages\, slow fashion\, curated vintage and wellness brands. \nShop our November Market located in Penticton and support the shop small movement. \nHOURS:\nSaturday\, November 16: 10am-5pm\nSunday\, November 17: 10am-5pm \nWHERE:\nThe Standard Space\, 124 Estabrook Avenue\nPenticton\, BC\, V2A 1G3
URL:https://downtownpenticton.org/event/seek-bespoke-market/
CATEGORIES:What’s Going On
ATTACH;FMTTYPE=image/jpeg:https://downtownpenticton.org/wp-content/uploads/2024/11/Seek-Market.jpg
END:VEVENT
BEGIN:VEVENT
DTSTART;TZID=America/Vancouver:20241117T170000
DTEND;TZID=America/Vancouver:20241117T190000
DTSTAMP:20260423T135139
CREATED:20240827T163524Z
LAST-MODIFIED:20241023T174738Z
UID:22477-1731862800-1731870000@downtownpenticton.org
SUMMARY:Michaela Bray in Cannery Brewing Taproom
DESCRIPTION:Nov 17 – Michaela Bray – 5 to 7pm \nGet ready to be enchanted by a local treasure\, Michaela\, as she weaves a spellbinding tapestry of folk-country melodies. Surrender to the magic of her music and let it carry you away. Pairs perfectly with oysters and wine features!
URL:https://downtownpenticton.org/event/cannery-brewing-taproom2024-11-17/
LOCATION:Cannery Brewing\, 198 Ellis St\, Penticton\, BC\, V2A 4L5\, Canada
CATEGORIES:What’s Going On
ATTACH;FMTTYPE=image/jpeg:https://downtownpenticton.org/wp-content/uploads/2024/08/Michaela-Bray-SMOL-scaled.jpg
END:VEVENT
BEGIN:VEVENT
DTSTART;TZID=America/Vancouver:20241122T200000
DTEND;TZID=America/Vancouver:20241122T223000
DTSTAMP:20260423T135139
CREATED:20241114T195817Z
LAST-MODIFIED:20241114T205801Z
UID:22519-1732305600-1732314600@downtownpenticton.org
SUMMARY:Gisto and the Grateful Living at The Dream Cafe
DESCRIPTION:One of Vancouver’s hottest new bands is stopping by The Dream Cafe on the way to closing out The Rossland Film Festival. \nProlific producer/songwriter Gisto will be showcasing songs from his new album\, “I’m Alive”\, along with crowd favourites from past albums. Gisto has collaborated with reggae stars such as Lutan Fyah\, Sizzla and Capleton. Be ready to be swept away on reggae grooves with a bit of country twang and occasional cosmic jam. Guest drummer Mr. Boom Bap (one of the best drummers on the planet in our opinion).
URL:https://downtownpenticton.org/event/gisto-and-the-grateful-living-at-the-dream-cafe/
LOCATION:Dream Cafe\, 67 Front Street\, Penticton\, BC\, V2A 1H2\, Canada
CATEGORIES:What’s Going On
ORGANIZER;CN="Dream Cafe":MAILTO:reservations@thedreamcafe.ca
END:VEVENT
BEGIN:VEVENT
DTSTART;TZID=America/Vancouver:20241124T160000
DTEND;TZID=America/Vancouver:20241124T180000
DTSTAMP:20260423T135139
CREATED:20241120T190037Z
LAST-MODIFIED:20241120T205940Z
UID:22561-1732464000-1732471200@downtownpenticton.org
SUMMARY:Christmas Eve Dinner at the Penticton Lakeside Resort
DESCRIPTION:Join Penticton Lakeside Resort for a Christmas Eve grand buffet dinner\, with family & friends & a special visit from Santa Claus! \nDate: December 24th\, 2024\nReservations: 4:00pm & 6:30pm\nLocation: Penticton Lakeside Resort West Conference Centre\nPrice: Adults $49.95\nChildren ages 11-17 $24.95\nChildren ages 4-10 $2/year\nChildren 3 & under free\n(Prices are subject to 18% service charge & 5% GST)\nPayment is required at time of booking \nTo purchase tickets contact Sarah at 250.493.9752\nor email her at sarah@rpbhotels.com
URL:https://downtownpenticton.org/event/christmas-eve-dinner-at-the-penticton-lakeside-resort/
LOCATION:The Penticton Lakeside Resort\, 21 Lakeshore Drive W\, Penticton\, BC\, V2A 7M5\, Canada
CATEGORIES:What’s Going On
ATTACH;FMTTYPE=image/jpeg:https://downtownpenticton.org/wp-content/uploads/2024/11/Christmas-Eve-Dinner-2024-Web.jpg
END:VEVENT
BEGIN:VEVENT
DTSTART;TZID=America/Vancouver:20241124T170000
DTEND;TZID=America/Vancouver:20241124T190000
DTSTAMP:20260423T135139
CREATED:20240827T163524Z
LAST-MODIFIED:20241203T171025Z
UID:22478-1732467600-1732474800@downtownpenticton.org
SUMMARY:Joshua Smith in Cannery Brewing Taproom
DESCRIPTION:Nov 24 – Joshua Smith – 5 to 7pm \nJoshua is a Maritime songwriter\, living in the Okanagan. His unpretentious folk songs are clear-eyed\, empathetic\, and penetrating. Without pandering\, they seek to satisfy both your ear and your understanding. Check out his bandcamp to have a listen: https://joshuasmith.bandcamp.com/
URL:https://downtownpenticton.org/event/cannery-brewing-taproom-2024-11-24/2024-11-24/
LOCATION:Cannery Brewing\, 198 Ellis St\, Penticton\, BC\, V2A 4L5\, Canada
CATEGORIES:What’s Going On
ATTACH;FMTTYPE=image/jpeg:https://downtownpenticton.org/wp-content/uploads/2024/08/Joshua-Smith.jpg
END:VEVENT
BEGIN:VEVENT
DTSTART;TZID=America/Vancouver:20241129T190000
DTEND;TZID=America/Vancouver:20241129T203000
DTSTAMP:20260423T135139
CREATED:20240924T173112Z
LAST-MODIFIED:20240924T173112Z
UID:22384-1732906800-1732912200@downtownpenticton.org
SUMMARY:Grinch Tree Workshop
DESCRIPTION:Transform your cypress tree into a work of art. Decorations and signature ornament for the tip of the tree. All the festive decorations included. Completely customize your own Grinch tree creation with friends or family. \nAll supplies are included $50.00 per person
URL:https://downtownpenticton.org/event/grinch-tree-workshop/
LOCATION:Sahara Garden Art\, 407 Martin St\, Penticton\, V2A 5L1\, Canada
CATEGORIES:What’s Going On
ORGANIZER;CN="Sahara Garden Art":MAILTO:SAHARAGARDENART@GMAIL.COM
END:VEVENT
BEGIN:VEVENT
DTSTART;TZID=America/Vancouver:20241130T120000
DTEND;TZID=America/Vancouver:20241130T160000
DTSTAMP:20260423T135139
CREATED:20241025T215516Z
LAST-MODIFIED:20241025T215516Z
UID:22495-1732968000-1732982400@downtownpenticton.org
SUMMARY:A Sprinkle of Magic
DESCRIPTION:Save the date for a Sprinkle of Magic! \nWe are excited to introduce a brand-new holiday shopping experience in downtown Penticton this year! Join us on Saturday\, November 30\, from 12:00 pm to 4:00 pm for a festive afternoon of shopping and holiday cheer. \nThe DPBIA will activate four key locations downtown\, each featuring something special to encourage shoppers to explore the area and discover exclusive offers at participating businesses. These spots will include exciting activities such as gift card giveaways\, letters to Santa\, live music\, photos with Santa\, complimentary treats\, hot cocoa and more! Additionally\, we’ll be giving away gift cards from downtown businesses with a combined total of $5000! \nThe City of Penticton is offering free two-hour parking on streets and in city-owned lots to make it even easier for visitors to enjoy. \n 
URL:https://downtownpenticton.org/event/a-sprinkle-of-magic/
CATEGORIES:DPBIA,What’s Going On
ATTACH;FMTTYPE=image/png:https://downtownpenticton.org/wp-content/uploads/2024/10/Save-the-Date.png
END:VEVENT
END:VCALENDAR