BEGIN:VCALENDAR
VERSION:2.0
PRODID:-//Downtown Penticton - ECPv6.15.20//NONSGML v1.0//EN
CALSCALE:GREGORIAN
METHOD:PUBLISH
X-WR-CALNAME:Downtown Penticton
X-ORIGINAL-URL:https://downtownpenticton.org
X-WR-CALDESC:Events for Downtown Penticton
REFRESH-INTERVAL;VALUE=DURATION:PT1H
X-Robots-Tag:noindex
X-PUBLISHED-TTL:PT1H
BEGIN:VTIMEZONE
TZID:America/Vancouver
BEGIN:DAYLIGHT
TZOFFSETFROM:-0800
TZOFFSETTO:-0700
TZNAME:PDT
DTSTART:20230312T100000
END:DAYLIGHT
BEGIN:STANDARD
TZOFFSETFROM:-0700
TZOFFSETTO:-0800
TZNAME:PST
DTSTART:20231105T090000
END:STANDARD
BEGIN:DAYLIGHT
TZOFFSETFROM:-0800
TZOFFSETTO:-0700
TZNAME:PDT
DTSTART:20240310T100000
END:DAYLIGHT
BEGIN:STANDARD
TZOFFSETFROM:-0700
TZOFFSETTO:-0800
TZNAME:PST
DTSTART:20241103T090000
END:STANDARD
BEGIN:DAYLIGHT
TZOFFSETFROM:-0800
TZOFFSETTO:-0700
TZNAME:PDT
DTSTART:20250309T100000
END:DAYLIGHT
BEGIN:STANDARD
TZOFFSETFROM:-0700
TZOFFSETTO:-0800
TZNAME:PST
DTSTART:20251102T090000
END:STANDARD
END:VTIMEZONE
BEGIN:VEVENT
DTSTART;TZID=America/Vancouver:20241006T170000
DTEND;TZID=America/Vancouver:20241006T190000
DTSTAMP:20260423T152755
CREATED:20240926T163524Z
LAST-MODIFIED:20240926T201855Z
UID:22388-1728234000-1728241200@downtownpenticton.org
SUMMARY:Borderlines in Cannery Brewing Taproom
DESCRIPTION:October 6\, 2024: Borderlines \n5-7pm \nThe mesmerizing vocals and masterful musicianship of local folk duo Borderlines will transport you to a realm of musical bliss! Join Cannery Brewing from 5 to 7 pm for an evening filled with heartfelt violin and guitar.
URL:https://downtownpenticton.org/event/cannery-brewing-taproom-2024-09-29-2024-10-06/
LOCATION:Cannery Brewing\, 198 Ellis St\, Penticton\, BC\, V2A 4L5\, Canada
CATEGORIES:What’s Going On
END:VEVENT
BEGIN:VEVENT
DTSTART;TZID=America/Vancouver:20241006T180000
DTEND;TZID=America/Vancouver:20241006T213000
DTSTAMP:20260423T152755
CREATED:20240910T170550Z
LAST-MODIFIED:20240910T170550Z
UID:22353-1728237600-1728250200@downtownpenticton.org
SUMMARY:Joos Box Autumn Mocktail Class
DESCRIPTION:Want to learn how the magic is made? Now you can with our seasonal mocktail crafting classes! \nLimited spaces available\, so register early! (10 spots total). Tickets cost $40 each. \nWe’ll supply you with everything needed to make 3 signature drinks with seasonal flavours! \nGet tickets at joosbox.ca
URL:https://downtownpenticton.org/event/joos-box-autumn-mocktail-class/
LOCATION:Joos Box\, 283 Brunswick St\, Penticton\, BC\, V2A 5P9\, Canada
CATEGORIES:What’s Going On
ORGANIZER;CN="Joos Box":MAILTO:meetme@joosbox.ca
END:VEVENT
BEGIN:VEVENT
DTSTART;TZID=America/Vancouver:20241012T130000
DTEND;TZID=America/Vancouver:20241012T160000
DTSTAMP:20260423T152755
CREATED:20240910T170315Z
LAST-MODIFIED:20240910T175021Z
UID:22350-1728738000-1728748800@downtownpenticton.org
SUMMARY:Pumpkin Painting at Joos Box
DESCRIPTION:Think pumpkin carving is overrated? Why not join us for some pumpkin painting instead! We’ll take care of all the messy details\, just bring yourself and your creativity! \nLimited spaces available\, so register early! (13 spots total). Tickets cost $35 each. \nTicket price includes 1 pumpkin\, paint supplies\, tools\, 1 drink for child\, 1 drink for adult\, snacks and aprons. Feel free to email meetme@joosbox.ca if you have any questions or allergies/sensitivities we should know about! \nGet tickets at joosbox.ca
URL:https://downtownpenticton.org/event/pumpkin-painting-at-joos-box/
LOCATION:Joos Box\, 283 Brunswick St\, Penticton\, BC\, V2A 5P9\, Canada
CATEGORIES:What’s Going On
ATTACH;FMTTYPE=image/jpeg:https://downtownpenticton.org/wp-content/uploads/2024/09/image_2024-09-07_193806660.jpg
ORGANIZER;CN="Joos Box":MAILTO:meetme@joosbox.ca
END:VEVENT
BEGIN:VEVENT
DTSTART;TZID=America/Vancouver:20241013T170000
DTEND;TZID=America/Vancouver:20241013T190000
DTSTAMP:20260423T152755
CREATED:20240925T163524Z
LAST-MODIFIED:20240926T202048Z
UID:22389-1728838800-1728846000@downtownpenticton.org
SUMMARY:Aaron Loewen in Cannery Brewing Taproom
DESCRIPTION:October 13\, 2024: Aaron Loewen\n5-7pm \nAaron plays an exciting and stylish style of retro jazz\, as if it were plucked straight from the streets of 1930s Paris or a Roma caravan in the European countryside. \nCheck out his website for more: https://www.aaronloewenmusic.com/bio
URL:https://downtownpenticton.org/event/cannery-brewing-taproom-2024-09-29-2024-10-13/
LOCATION:Cannery Brewing\, 198 Ellis St\, Penticton\, BC\, V2A 4L5\, Canada
CATEGORIES:What’s Going On
END:VEVENT
BEGIN:VEVENT
DTSTART;TZID=America/Vancouver:20241017T173000
DTEND;TZID=America/Vancouver:20241017T220000
DTSTAMP:20260423T152755
CREATED:20241008T162100Z
LAST-MODIFIED:20241009T210334Z
UID:22425-1729186200-1729202400@downtownpenticton.org
SUMMARY:Taste of Downtown
DESCRIPTION:Join us for the Taste of Downtown!\n\nWe invite you to savour the unique flavours that define Penticton while supporting the heart of our community – our local businesses. From Thursday\, October 17\, to Sunday\, October 20\, participating Downtown Penticton restaurants will be offering delectable specials that will take you on a culinary adventure. Roaming local musicians will be playing throughout the event at multiple locations.\nThe festivities will kick off in true Nashville style on Thursday\, October 17\, with a special event on Martin Street. Guests can enjoy live performances as they move between venues\, soaking in the lively atmosphere and great food.\n\nShare your experience on social media for your chance to win!\nOne lucky winner will have the opportunity to enjoy a luxurious one-night stay at the Penticton Lakeside Resort\, paired with $200 in restaurant gift cards\, offering an unforgettable dining experience\nTo participate and stand a chance to win\, simply tag your culinary adventures at participating Taste of Downtown locations with #tasteofdowntownpen and @downtownpenticton on Facebook or Instagram or email your experience to info@downtownpenticton.org.\n\nHelp us celebrate Penticton’s vibrant culinary scene\, where every bite is a journey\, and every restaurant is an experience.
URL:https://downtownpenticton.org/event/taste-of-downtown-2/2024-10-17/
CATEGORIES:DPBIA,What’s Going On
ATTACH;FMTTYPE=image/png:https://downtownpenticton.org/wp-content/uploads/2024/10/ToD24-Web-1280-x-720-px-1.png
END:VEVENT
BEGIN:VEVENT
DTSTART;TZID=America/Vancouver:20241018T173000
DTEND;TZID=America/Vancouver:20241018T220000
DTSTAMP:20260423T152755
CREATED:20241008T162100Z
LAST-MODIFIED:20241009T210334Z
UID:22426-1729272600-1729288800@downtownpenticton.org
SUMMARY:Taste of Downtown
DESCRIPTION:Join us for the Taste of Downtown!\n\nWe invite you to savour the unique flavours that define Penticton while supporting the heart of our community – our local businesses. From Thursday\, October 17\, to Sunday\, October 20\, participating Downtown Penticton restaurants will be offering delectable specials that will take you on a culinary adventure. Roaming local musicians will be playing throughout the event at multiple locations.\nThe festivities will kick off in true Nashville style on Thursday\, October 17\, with a special event on Martin Street. Guests can enjoy live performances as they move between venues\, soaking in the lively atmosphere and great food.\n\nShare your experience on social media for your chance to win!\nOne lucky winner will have the opportunity to enjoy a luxurious one-night stay at the Penticton Lakeside Resort\, paired with $200 in restaurant gift cards\, offering an unforgettable dining experience\nTo participate and stand a chance to win\, simply tag your culinary adventures at participating Taste of Downtown locations with #tasteofdowntownpen and @downtownpenticton on Facebook or Instagram or email your experience to info@downtownpenticton.org.\n\nHelp us celebrate Penticton’s vibrant culinary scene\, where every bite is a journey\, and every restaurant is an experience.
URL:https://downtownpenticton.org/event/taste-of-downtown-2/2024-10-18/
CATEGORIES:DPBIA,What’s Going On
ATTACH;FMTTYPE=image/png:https://downtownpenticton.org/wp-content/uploads/2024/10/ToD24-Web-1280-x-720-px-1.png
END:VEVENT
BEGIN:VEVENT
DTSTART;TZID=America/Vancouver:20241019T130000
DTEND;TZID=America/Vancouver:20241019T160000
DTSTAMP:20260423T152755
CREATED:20240910T171552Z
LAST-MODIFIED:20240910T172126Z
UID:22359-1729342800-1729353600@downtownpenticton.org
SUMMARY:Mini Haunted Candy House Building at Joos Box
DESCRIPTION:Instead of wintery gingerbread houses\, why not welcome the autumn chill with some spooky candy haunted houses? \nLimited spaces available\, so register early! (13 spots total). Tickets cost $42 each. \nChildren must be accompanied by an adult! \nTicket price includes all necessary supplies\, 1 drink for child\, 1 drink for adult\, snacks and aprons. Feel free to email meetme@joosbox.ca if you have any questions or allergies/sensitivities we should know about! \nGet tickets at joosbox.ca
URL:https://downtownpenticton.org/event/mini-haunted-candy-house-building-at-joos-box/
LOCATION:Joos Box\, 283 Brunswick St\, Penticton\, BC\, V2A 5P9\, Canada
CATEGORIES:What’s Going On
ATTACH;FMTTYPE=image/jpeg:https://downtownpenticton.org/wp-content/uploads/2024/09/image_2024-09-07_194814705.jpg
ORGANIZER;CN="Joos Box":MAILTO:meetme@joosbox.ca
END:VEVENT
BEGIN:VEVENT
DTSTART;TZID=America/Vancouver:20241019T173000
DTEND;TZID=America/Vancouver:20241019T220000
DTSTAMP:20260423T152755
CREATED:20241008T162100Z
LAST-MODIFIED:20241009T210334Z
UID:22427-1729359000-1729375200@downtownpenticton.org
SUMMARY:Taste of Downtown
DESCRIPTION:Join us for the Taste of Downtown!\n\nWe invite you to savour the unique flavours that define Penticton while supporting the heart of our community – our local businesses. From Thursday\, October 17\, to Sunday\, October 20\, participating Downtown Penticton restaurants will be offering delectable specials that will take you on a culinary adventure. Roaming local musicians will be playing throughout the event at multiple locations.\nThe festivities will kick off in true Nashville style on Thursday\, October 17\, with a special event on Martin Street. Guests can enjoy live performances as they move between venues\, soaking in the lively atmosphere and great food.\n\nShare your experience on social media for your chance to win!\nOne lucky winner will have the opportunity to enjoy a luxurious one-night stay at the Penticton Lakeside Resort\, paired with $200 in restaurant gift cards\, offering an unforgettable dining experience\nTo participate and stand a chance to win\, simply tag your culinary adventures at participating Taste of Downtown locations with #tasteofdowntownpen and @downtownpenticton on Facebook or Instagram or email your experience to info@downtownpenticton.org.\n\nHelp us celebrate Penticton’s vibrant culinary scene\, where every bite is a journey\, and every restaurant is an experience.
URL:https://downtownpenticton.org/event/taste-of-downtown-2/2024-10-19/
CATEGORIES:DPBIA,What’s Going On
ATTACH;FMTTYPE=image/png:https://downtownpenticton.org/wp-content/uploads/2024/10/ToD24-Web-1280-x-720-px-1.png
END:VEVENT
BEGIN:VEVENT
DTSTART;TZID=America/Vancouver:20241020T170000
DTEND;TZID=America/Vancouver:20241020T190000
DTSTAMP:20260423T152755
CREATED:20240827T163524Z
LAST-MODIFIED:20240926T202208Z
UID:22390-1729443600-1729450800@downtownpenticton.org
SUMMARY:Terry (T.K.) Kaiser & Phil D'Aoust in Cannery Brewing Taproom
DESCRIPTION:October 20\, 2024: Terry (T.K.) Kaiser & Phil D’Aoust\n5-7pm \nTK and Phil have musically collaborated in the past and are pleased to join forces again for a Sunday at Cannery Brewing. Expect a mix of TK originals\, traditional folk\, country and blues with Phil providing the rich bass sounds that he is known for.
URL:https://downtownpenticton.org/event/cannery-brewing-taproom-2024-09-29-2024-10-20/
LOCATION:Cannery Brewing\, 198 Ellis St\, Penticton\, BC\, V2A 4L5\, Canada
CATEGORIES:What’s Going On
ATTACH;FMTTYPE=image/png:https://downtownpenticton.org/wp-content/uploads/2024/08/TK-and-Phil.png
END:VEVENT
BEGIN:VEVENT
DTSTART;TZID=America/Vancouver:20241020T173000
DTEND;TZID=America/Vancouver:20241020T220000
DTSTAMP:20260423T152755
CREATED:20241008T162100Z
LAST-MODIFIED:20241009T210334Z
UID:22428-1729445400-1729461600@downtownpenticton.org
SUMMARY:Taste of Downtown
DESCRIPTION:Join us for the Taste of Downtown!\n\nWe invite you to savour the unique flavours that define Penticton while supporting the heart of our community – our local businesses. From Thursday\, October 17\, to Sunday\, October 20\, participating Downtown Penticton restaurants will be offering delectable specials that will take you on a culinary adventure. Roaming local musicians will be playing throughout the event at multiple locations.\nThe festivities will kick off in true Nashville style on Thursday\, October 17\, with a special event on Martin Street. Guests can enjoy live performances as they move between venues\, soaking in the lively atmosphere and great food.\n\nShare your experience on social media for your chance to win!\nOne lucky winner will have the opportunity to enjoy a luxurious one-night stay at the Penticton Lakeside Resort\, paired with $200 in restaurant gift cards\, offering an unforgettable dining experience\nTo participate and stand a chance to win\, simply tag your culinary adventures at participating Taste of Downtown locations with #tasteofdowntownpen and @downtownpenticton on Facebook or Instagram or email your experience to info@downtownpenticton.org.\n\nHelp us celebrate Penticton’s vibrant culinary scene\, where every bite is a journey\, and every restaurant is an experience.
URL:https://downtownpenticton.org/event/taste-of-downtown-2/2024-10-20/
CATEGORIES:DPBIA,What’s Going On
ATTACH;FMTTYPE=image/png:https://downtownpenticton.org/wp-content/uploads/2024/10/ToD24-Web-1280-x-720-px-1.png
END:VEVENT
BEGIN:VEVENT
DTSTART;TZID=America/Vancouver:20241027T170000
DTEND;TZID=America/Vancouver:20241027T190000
DTSTAMP:20260423T152755
CREATED:20240827T163524Z
LAST-MODIFIED:20241023T172701Z
UID:22391-1730048400-1730055600@downtownpenticton.org
SUMMARY:Dorian Goodwin in Cannery Brewing Taproom
DESCRIPTION:October 27\, 2024: Dorian Goodwin\n5-7pm \nDorian’s unique blend of improvised groove takes you on a ride where each performance is a fresh and vibrant expression. With an unmatched passion for music Dorian creates immersive soundscapes that ignite your senses and move your soul.
URL:https://downtownpenticton.org/event/cannery-brewing-taproom-2024-11/2024-10-27/
LOCATION:Cannery Brewing\, 198 Ellis St\, Penticton\, BC\, V2A 4L5\, Canada
CATEGORIES:What’s Going On
ATTACH;FMTTYPE=image/jpeg:https://downtownpenticton.org/wp-content/uploads/2024/08/Dorian-Goodwin.jpg
END:VEVENT
BEGIN:VEVENT
DTSTART;TZID=America/Vancouver:20241031T190000
DTEND;TZID=America/Vancouver:20241031T203000
DTSTAMP:20260423T152755
CREATED:20240924T172430Z
LAST-MODIFIED:20240924T172458Z
UID:22378-1730401200-1730406600@downtownpenticton.org
SUMMARY:Spooky Halloween Planter Workshop
DESCRIPTION:Join Sahara Garden Art for a spooky Halloween planting workshop. \nYou will create something creepy and beautiful. You can choose the plants and decorations. We will guide you in planting and design then you get to be creative and add the creepy finishing touches. No experience necessary. Just come and have some fun \n$50.00 per person
URL:https://downtownpenticton.org/event/spooky-halloween-planter-workshop/
LOCATION:Sahara Garden Art\, 407 Martin St\, Penticton\, V2A 5L1\, Canada
CATEGORIES:What’s Going On
ATTACH;FMTTYPE=image/webp:https://downtownpenticton.org/wp-content/uploads/2024/09/s604266043241218856_p805_i3_w768-e1727198640690.webp
ORGANIZER;CN="Sahara Garden Art":MAILTO:SAHARAGARDENART@GMAIL.COM
END:VEVENT
END:VCALENDAR