BEGIN:VCALENDAR
VERSION:2.0
PRODID:-//Downtown Penticton - ECPv6.15.20//NONSGML v1.0//EN
CALSCALE:GREGORIAN
METHOD:PUBLISH
X-WR-CALNAME:Downtown Penticton
X-ORIGINAL-URL:https://downtownpenticton.org
X-WR-CALDESC:Events for Downtown Penticton
REFRESH-INTERVAL;VALUE=DURATION:PT1H
X-Robots-Tag:noindex
X-PUBLISHED-TTL:PT1H
BEGIN:VTIMEZONE
TZID:America/Vancouver
BEGIN:DAYLIGHT
TZOFFSETFROM:-0800
TZOFFSETTO:-0700
TZNAME:PDT
DTSTART:20230312T100000
END:DAYLIGHT
BEGIN:STANDARD
TZOFFSETFROM:-0700
TZOFFSETTO:-0800
TZNAME:PST
DTSTART:20231105T090000
END:STANDARD
BEGIN:DAYLIGHT
TZOFFSETFROM:-0800
TZOFFSETTO:-0700
TZNAME:PDT
DTSTART:20240310T100000
END:DAYLIGHT
BEGIN:STANDARD
TZOFFSETFROM:-0700
TZOFFSETTO:-0800
TZNAME:PST
DTSTART:20241103T090000
END:STANDARD
BEGIN:DAYLIGHT
TZOFFSETFROM:-0800
TZOFFSETTO:-0700
TZNAME:PDT
DTSTART:20250309T100000
END:DAYLIGHT
BEGIN:STANDARD
TZOFFSETFROM:-0700
TZOFFSETTO:-0800
TZNAME:PST
DTSTART:20251102T090000
END:STANDARD
END:VTIMEZONE
BEGIN:VEVENT
DTSTART;TZID=America/Vancouver:20240901T170000
DTEND;TZID=America/Vancouver:20240901T190000
DTSTAMP:20260423T165712
CREATED:20240827T163524Z
LAST-MODIFIED:20240827T163752Z
UID:22322-1725210000-1725217200@downtownpenticton.org
SUMMARY:Nate Froese in Cannery Brewing Taproom
DESCRIPTION:September 8\, 2024: Nate Froese in Cannery Brewing Taproom \n5-7pm \nNate will join us from 5 to 7pm for some 90s and 00s covers. He’s taking your requests\, so come on down to the Cannery Brewing Taproom and sing along.
URL:https://downtownpenticton.org/event/nate-froese-in-cannery-brewing-taproom/
LOCATION:Cannery Brewing\, 198 Ellis St\, Penticton\, BC\, V2A 4L5\, Canada
CATEGORIES:What’s Going On
ATTACH;FMTTYPE=image/jpeg:https://downtownpenticton.org/wp-content/uploads/2024/08/Nate-Froese-SMOL.jpg
END:VEVENT
BEGIN:VEVENT
DTSTART;TZID=America/Vancouver:20240905T170000
DTEND;TZID=America/Vancouver:20240905T200000
DTSTAMP:20260423T165712
CREATED:20240530T204703Z
LAST-MODIFIED:20240607T204843Z
UID:22088-1725555600-1725566400@downtownpenticton.org
SUMMARY:Community Pop-Up Project: Jazz
DESCRIPTION:The Downtown Penticton Business Improvement Association and the City of Penticton are proud to present The Community Pop-Up Project; a visionary initiative to revitalize an underutilized area. Together\, we have transformed the vacant lot at 598 Main Street into a vibrant placemaking area named “Street Beats and Eats.” \nJoin us for the last of four events this summer as we host a night of jazz: \nThursday\, September 5\n5pm to 8pm\nIn partnership with the Pentastic Hot Jazz Festival\, this event will feature live jazz music by Yanti and Co.\, a beverage garden with local selections\, and culinary delights by Kin & Folk Restaurant.
URL:https://downtownpenticton.org/event/community-pop-up-project-jazz/
LOCATION:Community Pop Up Project\, 598 Main St\, Penticton\, BC\, V2A 5C7\, Canada
CATEGORIES:DPBIA,What’s Going On
ATTACH;FMTTYPE=image/png:https://downtownpenticton.org/wp-content/uploads/2024/05/Community-Pop-Up-Sept-5.png
END:VEVENT
BEGIN:VEVENT
DTSTART;TZID=America/Vancouver:20240907T083000
DTEND;TZID=America/Vancouver:20240907T133000
DTSTAMP:20260423T165712
CREATED:20240425T212526Z
LAST-MODIFIED:20240425T212526Z
UID:22002-1725697800-1725715800@downtownpenticton.org
SUMMARY:Downtown Community Market
DESCRIPTION:The Downtown Community Market is back for the 2024 season. Join us every Saturday from May 18 – September 7\, 2024\, in downtown Penticton. \nThe market is designed to bring together local vendors and community members for a day of shopping\, entertainment\, and connection. It features a wide variety of vendors selling everything from handmade crafts\, clothing\, jewellery to unique specialty items. Support small businesses and entrepreneurs while enjoying a vibrant outdoor market atmosphere! \nThe market runs from 8:30 am – 1:30 pm at 200 Main Street\, Front Street and Backstreet Boulevard.
URL:https://downtownpenticton.org/event/downtown-community-market-5/2024-09-07/
LOCATION:Downtown Community Market\, 200 Main Street\, Penticton\, BC\, Canada
CATEGORIES:DPBIA,What’s Going On
ATTACH;FMTTYPE=image/png:https://downtownpenticton.org/wp-content/uploads/2024/04/Market-Web.png
END:VEVENT
BEGIN:VEVENT
DTSTART;TZID=America/Vancouver:20240908T170000
DTEND;TZID=America/Vancouver:20240908T190000
DTSTAMP:20260423T165712
CREATED:20240827T163524Z
LAST-MODIFIED:20240827T163712Z
UID:22324-1725814800-1725822000@downtownpenticton.org
SUMMARY:Ted Kim in Cannery Brewing Taproom
DESCRIPTION:September 8\, 2024: Ted Kim in Cannery Brewing Taproom \n5-7pm \nTed is a singer/songwriter from Chilliwack. A self-taught multi-instrumentalist\, playing guitar\, drums\, bass\, piano\, and more. Nominated for 5 FVMA Awards his soft melancholic sound is sure to soothe your soul.
URL:https://downtownpenticton.org/event/nate-froese-in-cannery-brewing-taproom-2024-09-08/2024-09-08/
LOCATION:Cannery Brewing\, 198 Ellis St\, Penticton\, BC\, V2A 4L5\, Canada
CATEGORIES:What’s Going On
END:VEVENT
BEGIN:VEVENT
DTSTART;TZID=America/Vancouver:20240915T170000
DTEND;TZID=America/Vancouver:20240915T190000
DTSTAMP:20260423T165712
CREATED:20240827T163524Z
LAST-MODIFIED:20240827T163903Z
UID:22325-1726419600-1726426800@downtownpenticton.org
SUMMARY:Barry Wilson in Cannery Brewing Taproom
DESCRIPTION:September 15\, 2024: Barry Wilson in Cannery Brewing Taproom \n5-7pm \nBarry Wilson is a singer/songwriter and multi-instrumentalist playing all your favourite country\, rock and folk tunes. With a large musical repertoire he tailors each show to his audience.
URL:https://downtownpenticton.org/event/nate-froese-in-cannery-brewing-taproom-2024-09-15/
LOCATION:Cannery Brewing\, 198 Ellis St\, Penticton\, BC\, V2A 4L5\, Canada
CATEGORIES:What’s Going On
ATTACH;FMTTYPE=image/jpeg:https://downtownpenticton.org/wp-content/uploads/2024/08/Barry-Wilson-NEW.jpg
END:VEVENT
BEGIN:VEVENT
DTSTART;TZID=America/Vancouver:20240922T170000
DTEND;TZID=America/Vancouver:20240922T190000
DTSTAMP:20260423T165712
CREATED:20240827T163524Z
LAST-MODIFIED:20240827T164236Z
UID:22326-1727024400-1727031600@downtownpenticton.org
SUMMARY:Just Us Duo in Cannery Brewing Taproom
DESCRIPTION:September 22\, 2024: Just Us Duo in Cannery Brewing Taproom \n5-7pm \nThese fellas have a deep love of music that fuels all they do. Playing covers of all your favourites\, from Bruce Springsteen to Neil Diamond and a whole lot more in between. They long to share the energy and excitement of a live performance with you!
URL:https://downtownpenticton.org/event/nate-froese-in-cannery-brewing-taproom-2024-09-22/
LOCATION:Cannery Brewing\, 198 Ellis St\, Penticton\, BC\, V2A 4L5\, Canada
CATEGORIES:What’s Going On
ATTACH;FMTTYPE=image/jpeg:https://downtownpenticton.org/wp-content/uploads/2024/08/Just-Us-Duo.jpg
END:VEVENT
BEGIN:VEVENT
DTSTART;TZID=America/Vancouver:20240927T180000
DTEND;TZID=America/Vancouver:20240927T210000
DTSTAMP:20260423T165712
CREATED:20240910T165235Z
LAST-MODIFIED:20240910T165452Z
UID:22344-1727460000-1727470800@downtownpenticton.org
SUMMARY:Joos Box Paint Night
DESCRIPTION:Unleash your inner artist and creativity at Joos Box’s Paint Nights! No experience necessary – just bring yourself and your sense of adventure! \nLimited spaces available\, so register early! (26 spots total). Tickets cost $48 each. \nPainting supplies provided\, price includes a signature mocktail some light food pairings! \n8×10 acrylic painting on canvas with a seasonal theme! \nGet tickets at joosbox.ca
URL:https://downtownpenticton.org/event/joos-box-paint-night/2024-09-27/
LOCATION:Joos Box\, 283 Brunswick St\, Penticton\, BC\, V2A 5P9\, Canada
CATEGORIES:What’s Going On
ATTACH;FMTTYPE=image/png:https://downtownpenticton.org/wp-content/uploads/2024/09/image_2024-09-07_190114681.png
ORGANIZER;CN="Joos Box":MAILTO:meetme@joosbox.ca
END:VEVENT
BEGIN:VEVENT
DTSTART;TZID=America/Vancouver:20240929T150000
DTEND;TZID=America/Vancouver:20240929T163000
DTSTAMP:20260423T165712
CREATED:20240926T204932Z
LAST-MODIFIED:20240926T205313Z
UID:22407-1727622000-1727627400@downtownpenticton.org
SUMMARY:Talk Back with Judy K Lee\, Jill Morrison\, and Kate Twa
DESCRIPTION:Join Tempest Theatre for a special Talk Back with Judy K Lee\, Jill Morrison\, and Kate Twa. \nJudy and Jill will have just wrapped up their workshop\, The JOY of Auditioning\, and will engage in a conversation with Kate about the film and television industry\, training\, and the role theatre can play in supporting and inspiring actors. \nSeating will be limited\, so please reserve your spot by getting a free ticket:\nhttps://www.simpletix.com/e/talk-back-with-judy-k-lee-jill-morrison-an-tickets-186200 \nThe Talk Back starts at 3pm. Doors and lounge will open at 2pm\, so you can enjoy a beverage beforehand.
URL:https://downtownpenticton.org/event/talk-back-with-judy-k-lee-jill-morrison-and-kate-twa/
LOCATION:Tempest Theatre & Film Society\, 125 Eckhardt Ave E\, Penticton\, BC\, V2A 1Z5\, Canada
CATEGORIES:What’s Going On
ORGANIZER;CN="Tempest Theatre & Film Society":MAILTO:admin@tempest.ca
END:VEVENT
BEGIN:VEVENT
DTSTART;TZID=America/Vancouver:20240929T170000
DTEND;TZID=America/Vancouver:20240929T190000
DTSTAMP:20260423T165712
CREATED:20240827T163524Z
LAST-MODIFIED:20240926T201512Z
UID:22327-1727629200-1727636400@downtownpenticton.org
SUMMARY:Doug Robb in Cannery Brewing Taproom
DESCRIPTION:September 29\, 2024: Doug Robb in Cannery Brewing Taproom \n5-7pm \nMusic and singing are in Doug’s blood and now he is excited to be continuing his musical journey as a singer/songwriter\, performing his original songs and various covers acoustically. Doug’s voice will not only capture the audience’s attention but also hold it as they anticipate his soaring vocals and interactive show.
URL:https://downtownpenticton.org/event/nate-froese-in-cannery-brewing-taproom-2024-09-29/2024-09-29/
LOCATION:Cannery Brewing\, 198 Ellis St\, Penticton\, BC\, V2A 4L5\, Canada
CATEGORIES:What’s Going On
END:VEVENT
END:VCALENDAR