BEGIN:VCALENDAR
VERSION:2.0
PRODID:-//Downtown Penticton - ECPv6.15.20//NONSGML v1.0//EN
CALSCALE:GREGORIAN
METHOD:PUBLISH
X-ORIGINAL-URL:https://downtownpenticton.org
X-WR-CALDESC:Events for Downtown Penticton
REFRESH-INTERVAL;VALUE=DURATION:PT1H
X-Robots-Tag:noindex
X-PUBLISHED-TTL:PT1H
BEGIN:VTIMEZONE
TZID:America/Vancouver
BEGIN:DAYLIGHT
TZOFFSETFROM:-0800
TZOFFSETTO:-0700
TZNAME:PDT
DTSTART:20230312T100000
END:DAYLIGHT
BEGIN:STANDARD
TZOFFSETFROM:-0700
TZOFFSETTO:-0800
TZNAME:PST
DTSTART:20231105T090000
END:STANDARD
BEGIN:DAYLIGHT
TZOFFSETFROM:-0800
TZOFFSETTO:-0700
TZNAME:PDT
DTSTART:20240310T100000
END:DAYLIGHT
BEGIN:STANDARD
TZOFFSETFROM:-0700
TZOFFSETTO:-0800
TZNAME:PST
DTSTART:20241103T090000
END:STANDARD
BEGIN:DAYLIGHT
TZOFFSETFROM:-0800
TZOFFSETTO:-0700
TZNAME:PDT
DTSTART:20250309T100000
END:DAYLIGHT
BEGIN:STANDARD
TZOFFSETFROM:-0700
TZOFFSETTO:-0800
TZNAME:PST
DTSTART:20251102T090000
END:STANDARD
END:VTIMEZONE
BEGIN:VEVENT
DTSTART;TZID=America/Vancouver:20240425T183000
DTEND;TZID=America/Vancouver:20240425T183000
DTSTAMP:20260424T002508
CREATED:20240315T222424Z
LAST-MODIFIED:20240315T222622Z
UID:21971-1714069800-1714069800@downtownpenticton.org
SUMMARY:Crystal and Airplant Workshop at Sahara Garden Art
DESCRIPTION:What you will create! Airplant + Crystal Terrarium \nDesign a terrarium to home your choice of airplant and crystals with full access to the toppings bar AND Geo Gem Airplant Stand \nCreate a home for your 2nd airplant with your choice geo crystal.
URL:https://downtownpenticton.org/event/crystal-and-airplant-workshop-at-sahara-garden-art/
LOCATION:Sahara Garden Art\, 407 Martin St\, Penticton\, V2A 5L1\, Canada
CATEGORIES:What’s Going On
ORGANIZER;CN="Sahara Garden Art":MAILTO:SAHARAGARDENART@GMAIL.COM
END:VEVENT
END:VCALENDAR