BEGIN:VCALENDAR
VERSION:2.0
PRODID:-//Downtown Penticton - ECPv6.15.20//NONSGML v1.0//EN
CALSCALE:GREGORIAN
METHOD:PUBLISH
X-ORIGINAL-URL:https://downtownpenticton.org
X-WR-CALDESC:Events for Downtown Penticton
REFRESH-INTERVAL;VALUE=DURATION:PT1H
X-Robots-Tag:noindex
X-PUBLISHED-TTL:PT1H
BEGIN:VTIMEZONE
TZID:America/Vancouver
BEGIN:DAYLIGHT
TZOFFSETFROM:-0800
TZOFFSETTO:-0700
TZNAME:PDT
DTSTART:20220313T100000
END:DAYLIGHT
BEGIN:STANDARD
TZOFFSETFROM:-0700
TZOFFSETTO:-0800
TZNAME:PST
DTSTART:20221106T090000
END:STANDARD
BEGIN:DAYLIGHT
TZOFFSETFROM:-0800
TZOFFSETTO:-0700
TZNAME:PDT
DTSTART:20230312T100000
END:DAYLIGHT
BEGIN:STANDARD
TZOFFSETFROM:-0700
TZOFFSETTO:-0800
TZNAME:PST
DTSTART:20231105T090000
END:STANDARD
BEGIN:DAYLIGHT
TZOFFSETFROM:-0800
TZOFFSETTO:-0700
TZNAME:PDT
DTSTART:20240310T100000
END:DAYLIGHT
BEGIN:STANDARD
TZOFFSETFROM:-0700
TZOFFSETTO:-0800
TZNAME:PST
DTSTART:20241103T090000
END:STANDARD
END:VTIMEZONE
BEGIN:VEVENT
DTSTART;TZID=America/Vancouver:20231203T163000
DTEND;TZID=America/Vancouver:20231203T190000
DTSTAMP:20260424T062729
CREATED:20231103T224301Z
LAST-MODIFIED:20231218T235433Z
UID:21343-1701621000-1701630000@downtownpenticton.org
SUMMARY:Magic on Main Street
DESCRIPTION:Mark your calendars for “Magic on Main Street\,” a spectacular celebration proudly presented by the Downtown Penticton Business Improvement Association in partnership with the City of Penticton. Together\, we have joined forces to bring you the Santa Parade and Light Up\, an evening destined to ignite the holiday spirit. \nPrepare to be swept off your feet as we embark on a journey to transform downtown Penticton into a mesmerizing wonderland of lights and joyous festivities. The magic begins with the Santa Parade at 4:30 pm\, as it marches its way north down Main Street\, finishing at Gyro Park\, where the Light Up event will unfold. \nHighlights of the Evening\n\nLive music from local favourite artists\nFamily-friendly activities\nDelicious treats from food trucks\nA charming mini market to explore\nAnd\, of course\, the Light Up reveal\n\nLight Up\n\nWhen: Sunday\, December 3\, 2023\nTime: 4:30 pm – Light Up: 6:00 pm\nLocation: Gyro Park\n\nSanta Parade\n\nWhen: Sunday\, December 3\, 2023\nTime: 4:30 pm\nParade Route: Main Street\, from White Avenue to Lakeshore Drive
URL:https://downtownpenticton.org/event/magic-on-main-street/
LOCATION:Gyro Park\, 55 Main St\, Penticton\, BC\, V2A 5K1\, Canada
CATEGORIES:DPBIA,What’s Going On
ATTACH;FMTTYPE=image/png:https://downtownpenticton.org/wp-content/uploads/2023/10/magic-on-main-street-1280x720-1.png
END:VEVENT
BEGIN:VEVENT
DTSTART;TZID=America/Vancouver:20231215T120000
DTEND;TZID=America/Vancouver:20231215T140000
DTSTAMP:20260424T062729
CREATED:20231114T175345Z
LAST-MODIFIED:20231114T180031Z
UID:21389-1702641600-1702648800@downtownpenticton.org
SUMMARY:Lunch with Santa
DESCRIPTION:LUNCH WITH SANTA\nDate: Friday\, December 15th\nTime: 12:00pm – 2:00pm\nLocation: West Ballroom \nFEATURING: \n\nA Visit From Santa\nA Market-Style Festive Lunch Buffet\nDoor Prizes\n\n\n\nPRICE: \n\n$30 Per Person\n$15 Per Child\, Ages 4-12\nChildren Ages 3 and Under are Free\n\n*Prices are Subject to 18% Service Charge & GST\n*Payment Required at Time of Booking \nFor Reservations Contact Sarah at 250.493.9752 or email sarah@rpbhotels.com
URL:https://downtownpenticton.org/event/lunch-with-santa/
LOCATION:The Penticton Lakeside Resort\, 21 Lakeshore Drive W\, Penticton\, BC\, V2A 7M5\, Canada
CATEGORIES:What’s Going On
ATTACH;FMTTYPE=image/jpeg:https://downtownpenticton.org/wp-content/uploads/2023/11/2023_Lunch_With_Santa-scaled.jpg
END:VEVENT
BEGIN:VEVENT
DTSTART;TZID=America/Vancouver:20231225T163000
DTEND;TZID=America/Vancouver:20231225T210000
DTSTAMP:20260424T062729
CREATED:20231114T174440Z
LAST-MODIFIED:20231114T180851Z
UID:21383-1703521800-1703538000@downtownpenticton.org
SUMMARY:Christmas Dinner at Penticton Lakeside Resort
DESCRIPTION:Christmas Dinner\nJoin Penticton Lakeside Resort on Christmas Day for a Deluxe Christmas Buffet with all the trimmings without all the fuss \nDate: Monday\, December\, 25th\nTime: Seatings available at 4:30pm & 6:30pm\nLocation: West Ballroom \n\n\nPRICE: \n\n$49.95 Per Person\n$21.95 Per Child\, Ages 4-12\nChildren 3 and Under Free\n\n*Prices subject to 18% service charge & GST\n*Payment Required at Time of Booking\n*Limited Seating Available \nFor Reservation Contact Sarah at 250.493.9778 or email sarah@rpbhotels.com
URL:https://downtownpenticton.org/event/christmas-dinner-at-penticton-lakeside-resort/
LOCATION:The Penticton Lakeside Resort\, 21 Lakeshore Drive W\, Penticton\, BC\, V2A 7M5\, Canada
CATEGORIES:What’s Going On
ATTACH;FMTTYPE=image/jpeg:https://downtownpenticton.org/wp-content/uploads/2023/11/2023_Christmas-Day-Dinner-scaled.jpg
END:VEVENT
END:VCALENDAR