BEGIN:VCALENDAR
VERSION:2.0
PRODID:-//Downtown Penticton - ECPv6.15.20//NONSGML v1.0//EN
CALSCALE:GREGORIAN
METHOD:PUBLISH
X-WR-CALNAME:Downtown Penticton
X-ORIGINAL-URL:https://downtownpenticton.org
X-WR-CALDESC:Events for Downtown Penticton
REFRESH-INTERVAL;VALUE=DURATION:PT1H
X-Robots-Tag:noindex
X-PUBLISHED-TTL:PT1H
BEGIN:VTIMEZONE
TZID:America/Vancouver
BEGIN:DAYLIGHT
TZOFFSETFROM:-0800
TZOFFSETTO:-0700
TZNAME:PDT
DTSTART:20250309T100000
END:DAYLIGHT
BEGIN:STANDARD
TZOFFSETFROM:-0700
TZOFFSETTO:-0800
TZNAME:PST
DTSTART:20251102T090000
END:STANDARD
BEGIN:DAYLIGHT
TZOFFSETFROM:-0800
TZOFFSETTO:-0700
TZNAME:PDT
DTSTART:20260308T100000
END:DAYLIGHT
BEGIN:STANDARD
TZOFFSETFROM:-0700
TZOFFSETTO:-0800
TZNAME:PST
DTSTART:20261101T090000
END:STANDARD
BEGIN:DAYLIGHT
TZOFFSETFROM:-0800
TZOFFSETTO:-0700
TZNAME:PDT
DTSTART:20270314T100000
END:DAYLIGHT
BEGIN:STANDARD
TZOFFSETFROM:-0700
TZOFFSETTO:-0800
TZNAME:PST
DTSTART:20271107T090000
END:STANDARD
END:VTIMEZONE
BEGIN:VEVENT
DTSTART;TZID=America/Vancouver:20260423T180000
DTEND;TZID=America/Vancouver:20260423T193000
DTSTAMP:20260423T020403
CREATED:20260320T222711Z
LAST-MODIFIED:20260320T222711Z
UID:23502-1776967200-1776972600@downtownpenticton.org
SUMMARY:Spring Bulb Kokedama Workshop
DESCRIPTION:Join Sahara Garden Art on April 23rd for a Spring Bulb Kokedama Workshop and explore the art of creating unique moss ball arrangements. Perfect for spring decor\, this hands-on workshop allows you to design your own botanical piece using vibrant spring bulbs. No prior experience needed\, as all materials and guidance will be provided. Get creative and bring a touch of nature into your home!
URL:https://downtownpenticton.org/event/spring-bulb-kokedama-workshop-2/
LOCATION:Sahara Garden Art\, 407 Martin St\, Penticton\, V2A 5L1\, Canada
ORGANIZER;CN="Sahara Garden Art":MAILTO:SAHARAGARDENART@GMAIL.COM
END:VEVENT
END:VCALENDAR